BEGIN:VCALENDAR
PRODID:NingEventWidget-v1
VERSION:2.0
METHOD:PUBLISH
BEGIN:VTIMEZONE
TZID:America/Los_Angeles
X-LIC-LOCATION:America/Los_Angeles
BEGIN:DAYLIGHT
TZOFFSETFROM:-0800
TZOFFSETTO:-0700
TZNAME:PDT
DTSTART:19700308T020000
RRULE:FREQ=YEARLY;BYMONTH=3;BYDAY=2SU
END:DAYLIGHT
BEGIN:STANDARD
TZOFFSETFROM:-0700
TZOFFSETTO:-0800
TZNAME:PST
DTSTART:19701101T020000
RRULE:FREQ=YEARLY;BYMONTH=11;BYDAY=1SU
END:STANDARD
END:VTIMEZONE
BEGIN:VEVENT
UID:1464587:Event:672834
DTSTAMP:20260421T040102Z
SUMMARY:Non Stop Bhangra Feat. Jassi Sidhu (UK) Live
DESCRIPTION:Non Stop Bhangra brings back one of its favorite artists a
 nd one of the most recognizable voices of the Bhangra industry, Jassi 
 Sidhu. Synonymous with the sound of UK Bhangra, he has a catalogue of 
 hit songs spanning over the course of 20 years that have firmly cement
 ed him as one of the biggest Bhangra Artists Worldwide. If you missed 
 his sold out show at Non Stop Bhangra last year, here's another chance
  to catch him live.\nThe whole Non Stop Bhangra crew will be in the h
 ouse to round out the night with dance lesson, dance performances, ban
 gin DJ sets, live dhol drumming, visuals, henna and more.\nIf you've n
 ever been to a Non Stop Bhangra night, make 2018 the year you change t
 hat and find out why the it's been voted \"Best Dance Party\" in the S
 F Bay Area and in production for almost 14 years!\nLimited Early Bird 
 Tickets on Sale now. Price goes up as soon as they are gone so get the
 m asap!MORE INFO & TICKETS: http://nsb140.eventbrite.com\n\n\nFor more
  information visit https://trueskool.com/events/non-stop-bhangra-feat-
 jassi-sidhu-uk-live
DTSTART;TZID=America/Los_Angeles:20180310T210000
DTEND;TZID=America/Los_Angeles:20180311T020000
CATEGORIES:"san francisco", "bay area"
LOCATION:Public Works, SF, CA
WEBSITE:http://nsb140.eventbrite.com
URL:http://nsb140.eventbrite.com
CONTACT:4156136106
ORGANIZER;CN="Non Stop Bhangra":https://trueskool.com/profile/NonStopB
 hangra
ATTACH;FMTTYPE="image/jpeg":http://storage.ning.com/topology/rest/1.0/
 file/get/2248004363?profile=original
ATTENDEE;ROLE=REQ-PARTICIPANT;PARTSTAT=ACCEPTED;RSVP=TRUE;CN="Non Stop
  Bhangra":https://trueskool.com/profile/NonStopBhangra
END:VEVENT
END:VCALENDAR
