BEGIN:VCALENDAR
PRODID:NingEventWidget-v1
VERSION:2.0
METHOD:PUBLISH
BEGIN:VTIMEZONE
TZID:America/Los_Angeles
X-LIC-LOCATION:America/Los_Angeles
BEGIN:DAYLIGHT
TZOFFSETFROM:-0800
TZOFFSETTO:-0700
TZNAME:PDT
DTSTART:19700308T020000
RRULE:FREQ=YEARLY;BYMONTH=3;BYDAY=2SU
END:DAYLIGHT
BEGIN:STANDARD
TZOFFSETFROM:-0700
TZOFFSETTO:-0800
TZNAME:PST
DTSTART:19701101T020000
RRULE:FREQ=YEARLY;BYMONTH=11;BYDAY=1SU
END:STANDARD
END:VTIMEZONE
BEGIN:VEVENT
UID:1464587:Event:662890
DTSTAMP:20260421T094742Z
SUMMARY:Non Stop Bhangra Celebrates 13 Years
DESCRIPTION:Voted as \" One of The Best Dance Parties in San Francisco
 \" this month Non Stop Bhangra celebrates 13 years of making people da
 nce. What started as a one off night has turned into a staple in the n
 ightlife of San Francisco that continues to bring together some of the
  most diverse crowds seen on a Bay Area Dance Floor. Imagine a scene f
 rom a Bollywood movie smack in the middle of a thumping nightclub-swir
 ling colors, the rhythm of pounding feet, & the relentless energy of b
 rilliant beats - that's Non Stop Bhangra! Highlighting the ancestral 
 roots of Punjabi dance while pushing boundaries with contemporary infl
 uences, Non Stop Bhangra is a genre-busting elixir of North Indian Bha
 ngra music and dance, mixed with reggae, hip-hop, and electronica. An 
 ever-evolving collective of dancers, DJs, drummers, vocalists, and mus
 icians, Non Stop Bhangra is a non-stop party. Featuring dance lesson,
  dance performances, dj sets, live drumming, live music, visuals, live
  art and more, its a treat for the eyes and ears and one of a kind exp
 erience only found in SF! More Info & Details: http://nsb135.eventbr
 ite.com\n\nFor more information visit https://trueskool.com/events/non
 -stop-bhangra-celebrates-13-years
DTSTART;TZID=America/Los_Angeles:20170902T210000
DTEND;TZID=America/Los_Angeles:20170903T020000
CATEGORIES:"san francisco", "bay area"
LOCATION:Public Works, SF
WEBSITE:http://nsb135.eventbrite.com
URL:http://nsb135.eventbrite.com
CONTACT:
ORGANIZER;CN="Non Stop Bhangra":https://trueskool.com/profile/NonStopB
 hangra
ATTACH;FMTTYPE="image/jpeg":http://storage.ning.com/topology/rest/1.0/
 file/get/2247996273?profile=original
ATTENDEE;ROLE=REQ-PARTICIPANT;PARTSTAT=ACCEPTED;RSVP=TRUE;CN="Non Stop
  Bhangra":https://trueskool.com/profile/NonStopBhangra
END:VEVENT
END:VCALENDAR
