BEGIN:VCALENDAR
PRODID:NingEventWidget-v1
VERSION:2.0
METHOD:PUBLISH
BEGIN:VTIMEZONE
TZID:America/Los_Angeles
X-LIC-LOCATION:America/Los_Angeles
BEGIN:DAYLIGHT
TZOFFSETFROM:-0800
TZOFFSETTO:-0700
TZNAME:PDT
DTSTART:19700308T020000
RRULE:FREQ=YEARLY;BYMONTH=3;BYDAY=2SU
END:DAYLIGHT
BEGIN:STANDARD
TZOFFSETFROM:-0700
TZOFFSETTO:-0800
TZNAME:PST
DTSTART:19701101T020000
RRULE:FREQ=YEARLY;BYMONTH=11;BYDAY=1SU
END:STANDARD
END:VTIMEZONE
BEGIN:VEVENT
UID:1464587:Event:297161
DTSTAMP:20260421T040415Z
SUMMARY:Non Stop Bhangra Celebrates #100! Featuring Panjabi MC(London,
  UK)! Red & Gold Color Theme!
DESCRIPTION:Non Stop Bhangra Celebrates #100 Featuring Panjabi MC (Lon
 don, UK)  MORE INFO & DETAILS: http://nonstopbhangra.com/non-stop-bhan
 gra-100-w-panjabi-mc/\n\nFor more information visit https://trueskool.
 com/events/non-stop-bhangra-celebrates-100-featuring-panjabi-mc-london
 -uk
DTSTART;TZID=America/Los_Angeles:20140208T210000
DTEND;TZID=America/Los_Angeles:20140209T030000
CATEGORIES:nonstopbhangra, panjabimc, publicworks, bhangra, sanfrancis
 co
LOCATION:Public Works, SF, CA
WEBSITE:http://nsb100.eventbrite.com/
URL:http://nsb100.eventbrite.com/
CONTACT:415-694-9080
ORGANIZER;CN="Non Stop Bhangra":https://trueskool.com/profile/NonStopB
 hangra
ATTACH;FMTTYPE="image/jpeg":http://storage.ning.com/topology/rest/1.0/
 file/get/2247956069?profile=original
ATTENDEE;ROLE=REQ-PARTICIPANT;PARTSTAT=ACCEPTED;RSVP=TRUE;CN="Non Stop
  Bhangra":https://trueskool.com/profile/NonStopBhangra
END:VEVENT
END:VCALENDAR
