BEGIN:VCALENDAR
PRODID:NingEventWidget-v1
VERSION:2.0
METHOD:PUBLISH
BEGIN:VTIMEZONE
TZID:America/Los_Angeles
X-LIC-LOCATION:America/Los_Angeles
BEGIN:DAYLIGHT
TZOFFSETFROM:-0800
TZOFFSETTO:-0700
TZNAME:PDT
DTSTART:19700308T020000
RRULE:FREQ=YEARLY;BYMONTH=3;BYDAY=2SU
END:DAYLIGHT
BEGIN:STANDARD
TZOFFSETFROM:-0700
TZOFFSETTO:-0800
TZNAME:PST
DTSTART:19701101T020000
RRULE:FREQ=YEARLY;BYMONTH=11;BYDAY=1SU
END:STANDARD
END:VTIMEZONE
BEGIN:VEVENT
UID:1464587:Event:288874
DTSTAMP:20260421T070057Z
SUMMARY:Non Stop Bhangra #99--A New Year Celebration! Welcome 2014!
DESCRIPTION:Non Stop Bhangra  returns to its monthly ritual on Januar
 y 12th. Come join the crew as we say welcome 2014 with good music, fri
 ends, gratitude, happy vibes, and non stop dancing. A big Thank You to
  the SF Bay Area community for rocking out with us in 2013. If you hav
 e never made it out to one of our events, here's your chance to come e
 xperience a one of a kind night featuring vibrant music, performances,
  live drumming, and one of the most eclectic crowds seen on a dance fl
 oor.   More info & tickets: http://www.nsb99.eventbrite.com\n\nFor mor
 e information visit https://trueskool.com/events/non-stop-bhangra-99-a
 -new-year-celebration-welcome-2014
DTSTART;TZID=America/Los_Angeles:20140111T210000
DTEND;TZID=America/Los_Angeles:20140112T030000
CATEGORIES:publicworks, nonstopbhangra
LOCATION:Public Works, SF, CA
WEBSITE:http://nsb99.eventbrite.com/
URL:http://nsb99.eventbrite.com/
CONTACT:415-694-9080
ORGANIZER;CN="Non Stop Bhangra":https://trueskool.com/profile/NonStopB
 hangra
ATTACH;FMTTYPE="image/jpeg":http://storage.ning.com/topology/rest/1.0/
 file/get/2247956027?profile=original
ATTENDEE;ROLE=REQ-PARTICIPANT;PARTSTAT=ACCEPTED;RSVP=TRUE;CN="Non Stop
  Bhangra":https://trueskool.com/profile/NonStopBhangra
END:VEVENT
END:VCALENDAR
