BEGIN:VCALENDAR
PRODID:NingEventWidget-v1
VERSION:2.0
METHOD:PUBLISH
BEGIN:VTIMEZONE
TZID:America/Los_Angeles
X-LIC-LOCATION:America/Los_Angeles
BEGIN:DAYLIGHT
TZOFFSETFROM:-0800
TZOFFSETTO:-0700
TZNAME:PDT
DTSTART:19700308T020000
RRULE:FREQ=YEARLY;BYMONTH=3;BYDAY=2SU
END:DAYLIGHT
BEGIN:STANDARD
TZOFFSETFROM:-0700
TZOFFSETTO:-0800
TZNAME:PST
DTSTART:19701101T020000
RRULE:FREQ=YEARLY;BYMONTH=11;BYDAY=1SU
END:STANDARD
END:VTIMEZONE
BEGIN:VEVENT
UID:1464587:Event:154536
DTSTAMP:20260421T142745Z
SUMMARY:Non Stop Bhangra #88--Welcome 2013!
DESCRIPTION:DETAILS:Saturday, January 12thPublic Works 161 Erie Street
 San Francisco21+COVER:$10 pre-sale/$15 door***cash only barPre-sale Ti
 cket link: http://nsb88.eventbrite.com/#\n\nFor more information visit
  https://trueskool.com/events/non-stop-bhangra-88-welcome-2013
DTSTART;TZID=America/Los_Angeles:20130112T210000
DTEND;TZID=America/Los_Angeles:20130113T030000
CATEGORIES:san, francisco, ca
LOCATION:Public Works, SF, CA
WEBSITE:http://nsb88.eventbrite.com/
URL:http://nsb88.eventbrite.com/
CONTACT:415-552-7788
ORGANIZER;CN="Non Stop Bhangra":https://trueskool.com/profile/NonStopB
 hangra
ATTACH;FMTTYPE="image/jpeg":http://storage.ning.com/topology/rest/1.0/
 file/get/2247935844?profile=original
ATTENDEE;ROLE=REQ-PARTICIPANT;PARTSTAT=ACCEPTED;RSVP=TRUE;CN="Non Stop
  Bhangra":https://trueskool.com/profile/NonStopBhangra
END:VEVENT
END:VCALENDAR
