BEGIN:VCALENDAR
PRODID:NingEventWidget-v1
VERSION:2.0
METHOD:PUBLISH
BEGIN:VTIMEZONE
TZID:America/Los_Angeles
X-LIC-LOCATION:America/Los_Angeles
BEGIN:DAYLIGHT
TZOFFSETFROM:-0800
TZOFFSETTO:-0700
TZNAME:PDT
DTSTART:19700308T020000
RRULE:FREQ=YEARLY;BYMONTH=3;BYDAY=2SU
END:DAYLIGHT
BEGIN:STANDARD
TZOFFSETFROM:-0700
TZOFFSETTO:-0800
TZNAME:PST
DTSTART:19701101T020000
RRULE:FREQ=YEARLY;BYMONTH=11;BYDAY=1SU
END:STANDARD
END:VTIMEZONE
BEGIN:VEVENT
UID:1464587:Event:669702
DTSTAMP:20260422T001754Z
SUMMARY:Non Stop Bhangra - 2018 Kick Off and New Year Celebration
DESCRIPTION:Voted one of the best dance parties in SF in 2017, Non Sto
 p Bhangra returns on Jan 6th to kick off brand new installments for 20
 18. Featuring djs, dancers, drummers, visuals, live art and more, its 
 a treat for the eyes and ears. Imagine a scene from a Bollywood movie 
 smack in the middle of a thumping night club, swirling colors, relentl
 ess energy, wall to wall smiles & bouncing shoulders, contagious beats
 , and one of the most diverse crowds seen on a dance floor. One of a k
 ind experience only found in SF. Info & Tickets: http://nsb138.eventb
 rite.com\n\nFor more information visit https://trueskool.com/events/no
 n-stop-bhangra-2018-kick-off-and-new-year-celebration
DTSTART;TZID=America/Los_Angeles:20180106T210000
DTEND;TZID=America/Los_Angeles:20180107T020000
CATEGORIES:"san francisco", "bay area"
LOCATION:Public Works, SF
WEBSITE:http://nsb138.eventbrite.com
URL:http://nsb138.eventbrite.com
CONTACT:4156136106
ORGANIZER;CN="Non Stop Bhangra":https://trueskool.com/profile/NonStopB
 hangra
ATTACH;FMTTYPE="image/jpeg":http://storage.ning.com/topology/rest/1.0/
 file/get/2248002380?profile=original
ATTENDEE;ROLE=REQ-PARTICIPANT;PARTSTAT=ACCEPTED;RSVP=TRUE;CN="Non Stop
  Bhangra":https://trueskool.com/profile/NonStopBhangra
END:VEVENT
END:VCALENDAR
