BEGIN:VCALENDAR
PRODID:NingEventWidget-v1
VERSION:2.0
METHOD:PUBLISH
BEGIN:VTIMEZONE
TZID:America/Los_Angeles
X-LIC-LOCATION:America/Los_Angeles
BEGIN:DAYLIGHT
TZOFFSETFROM:-0800
TZOFFSETTO:-0700
TZNAME:PDT
DTSTART:19700308T020000
RRULE:FREQ=YEARLY;BYMONTH=3;BYDAY=2SU
END:DAYLIGHT
BEGIN:STANDARD
TZOFFSETFROM:-0700
TZOFFSETTO:-0800
TZNAME:PST
DTSTART:19701101T020000
RRULE:FREQ=YEARLY;BYMONTH=11;BYDAY=1SU
END:STANDARD
END:VTIMEZONE
BEGIN:VEVENT
UID:1464587:Event:655275
DTSTAMP:20260422T075211Z
SUMMARY:Non Stop Bhangra #128-Last One Of 2016! Post Thanksgiving Holi
 day Bash!
DESCRIPTION:Ever been to Non Stop Bhangra? Here's your last chance thi
 s year to attend one as the vibrant production closes out 2016 with on
 e final installment on Thanksgiving Saturday. Voted one of the best pa
 rties in SF, its a night unlike any other and a treat for the eyes and
  ears. Imagine a scene smack in the middle of a thumping nightclub wit
 h swirling colors, rhythm of pounding feet, relentless energy, and bri
 lliant beats. A colorful night featuring dancers, dj's, drummers, visu
 als, live art, henna, food, and more! A perfect place to work off all 
 that holiday grub while sharing smiles and good vibes with friends and
  fam! Come get down! Tickets and more info: http://nsb128.eventbrite.
 com\n\nFor more information visit https://trueskool.com/events/non-sto
 p-bhangra-128-last-one-of-2016-post-thanksgiving-holiday
DTSTART;TZID=America/Los_Angeles:20161126T210000
DTEND;TZID=America/Los_Angeles:20161127T020000
CATEGORIES:"san francisco", "bay area"
LOCATION:Public Works, SF
WEBSITE:http://nsb128.eventbrite.com
URL:http://nsb128.eventbrite.com
CONTACT:
ORGANIZER;CN="Non Stop Bhangra":https://trueskool.com/profile/NonStopB
 hangra
ATTACH;FMTTYPE="image/jpeg":http://storage.ning.com/topology/rest/1.0/
 file/get/2247992833?profile=original
ATTENDEE;ROLE=REQ-PARTICIPANT;PARTSTAT=ACCEPTED;RSVP=TRUE;CN="Non Stop
  Bhangra":https://trueskool.com/profile/NonStopBhangra
END:VEVENT
END:VCALENDAR
