BEGIN:VCALENDAR
PRODID:NingEventWidget-v1
VERSION:2.0
METHOD:PUBLISH
BEGIN:VTIMEZONE
TZID:America/Los_Angeles
X-LIC-LOCATION:America/Los_Angeles
BEGIN:DAYLIGHT
TZOFFSETFROM:-0800
TZOFFSETTO:-0700
TZNAME:PDT
DTSTART:19700308T020000
RRULE:FREQ=YEARLY;BYMONTH=3;BYDAY=2SU
END:DAYLIGHT
BEGIN:STANDARD
TZOFFSETFROM:-0700
TZOFFSETTO:-0800
TZNAME:PST
DTSTART:19701101T020000
RRULE:FREQ=YEARLY;BYMONTH=11;BYDAY=1SU
END:STANDARD
END:VTIMEZONE
BEGIN:VEVENT
UID:1464587:Event:455510
DTSTAMP:20260421T033222Z
SUMMARY:Non Stop Bhangra #108--Last One For 2014
DESCRIPTION:\nHave you Made it out to a Non Stop Bhangra event yet? He
 re's your last chance to experience it this year. Voted as one of the 
 best dance parties in San Francisco, Non Stop Bhangra is a unique expe
 rience of genre-busting elixir of North Indian Bhangra music and dance
 , mixed with reggae, hip-hop, and electronica. An ever-evolving collec
 tive of dancers, DJs, drummers, vocalists, and musicians, Non Stop Bha
 ngra is a non-stop party. Imagine a scene from a Bollywood movie smack
  in the middle of a thumping nightclub-swirling colors, the rhythm of 
 pounding feet, & the relentless energy of brilliant beats--thats Non S
 top Bhangra!\n\n\n\nFinal One for 2014! Come Dance it up!!! More Info
  & Tickets: http://nsb108.eventbrite.com\n \n\nFor more information v
 isit https://trueskool.com/events/non-stop-bhangra-108-last-one-for-20
 14
DTSTART;TZID=America/Los_Angeles:20141115T210000
DTEND;TZID=America/Los_Angeles:20141116T020000
CATEGORIES:nonstopbhangra, dholrhythms, publicworksf
LOCATION:Public Works, SF, CA
WEBSITE:http://http:/nsb108.eventbrite.com
URL:http://http:/nsb108.eventbrite.com
CONTACT:
ORGANIZER;CN="Non Stop Bhangra":https://trueskool.com/profile/NonStopB
 hangra
ATTACH;FMTTYPE="image/jpeg":http://storage.ning.com/topology/rest/1.0/
 file/get/2247969649?profile=original
ATTENDEE;ROLE=REQ-PARTICIPANT;PARTSTAT=ACCEPTED;RSVP=TRUE;CN="Non Stop
  Bhangra":https://trueskool.com/profile/NonStopBhangra
END:VEVENT
END:VCALENDAR
