BEGIN:VCALENDAR
PRODID:NingEventWidget-v1
VERSION:2.0
METHOD:PUBLISH
BEGIN:VTIMEZONE
TZID:America/Los_Angeles
X-LIC-LOCATION:America/Los_Angeles
BEGIN:DAYLIGHT
TZOFFSETFROM:-0800
TZOFFSETTO:-0700
TZNAME:PDT
DTSTART:19700308T020000
RRULE:FREQ=YEARLY;BYMONTH=3;BYDAY=2SU
END:DAYLIGHT
BEGIN:STANDARD
TZOFFSETFROM:-0700
TZOFFSETTO:-0800
TZNAME:PST
DTSTART:19701101T020000
RRULE:FREQ=YEARLY;BYMONTH=11;BYDAY=1SU
END:STANDARD
END:VTIMEZONE
BEGIN:VEVENT
UID:1464587:Event:377402
DTSTAMP:20260421T030933Z
SUMMARY:Non Stop Bhangra #105--\"Crash an Indian Wedding Party\"
DESCRIPTION: Missing out on some fun wedding party invites? Well here'
 s your chance to come crash one of the best ones without the stress of
  last minute gifts and long speeches. Our favorite theme \"Crash an In
 dian Wedding Party\" is back again this year!   Come join the NSB cre
 w as we bring back the exuberant experience of an indian wedding party
  full with colorful vibes, baraat mob procession, beautifully dressed 
 people, sweets, henna, food, and endless dancing and music.   The Bar
 aat Mob is back again to help us celebrate with dancing on the streets
 . In addition to the entire NSB Crew, our portland friends DJ Anjali 
 and The Incredible Kid will be on the decks to keep you moving as wel
 l as special live set featuring Ishmeet Narula!   So bring out your 
 inner bollywood glam and come in your most favorite indian inspired st
 yle and come get down with us!   Saturday, July 19th at The Public W
 orks SF Tickets on sale now!  Presale:  http://nsb105.eventbrite.com/
 \n\n\nFor more information visit https://trueskool.com/events/non-stop
 -bhangra-105-crash-an-indian-wedding-party
DTSTART;TZID=America/Los_Angeles:20140719T210000
DTEND;TZID=America/Los_Angeles:20140720T020000
CATEGORIES:nonstopbhangra, dholrhythms, publicworkssf
LOCATION:Public Works, SF, CA
WEBSITE:http://http:/nsb105.eventbrite.com
URL:http://http:/nsb105.eventbrite.com
CONTACT:4156949080
ORGANIZER;CN="Non Stop Bhangra":https://trueskool.com/profile/NonStopB
 hangra
ATTACH;FMTTYPE="image/jpeg":http://storage.ning.com/topology/rest/1.0/
 file/get/2247963109?profile=original
ATTENDEE;ROLE=REQ-PARTICIPANT;PARTSTAT=ACCEPTED;RSVP=TRUE;CN="Non Stop
  Bhangra":https://trueskool.com/profile/NonStopBhangra
END:VEVENT
END:VCALENDAR
