BEGIN:VCALENDAR
PRODID:NingEventWidget-v1
VERSION:2.0
METHOD:PUBLISH
BEGIN:VTIMEZONE
TZID:America/Los_Angeles
X-LIC-LOCATION:America/Los_Angeles
BEGIN:DAYLIGHT
TZOFFSETFROM:-0800
TZOFFSETTO:-0700
TZNAME:PDT
DTSTART:19700308T020000
RRULE:FREQ=YEARLY;BYMONTH=3;BYDAY=2SU
END:DAYLIGHT
BEGIN:STANDARD
TZOFFSETFROM:-0700
TZOFFSETTO:-0800
TZNAME:PST
DTSTART:19701101T020000
RRULE:FREQ=YEARLY;BYMONTH=11;BYDAY=1SU
END:STANDARD
END:VTIMEZONE
BEGIN:VEVENT
UID:1464587:Event:313268
DTSTAMP:20260421T054058Z
SUMMARY:Non Stop Bhangra #101-St. Patty's Day Bhangra Bash Ft. Delhi 2
  Dublin
DESCRIPTION:NON STOP BHANGRA #101 - Delhi 2 Dublin Returns Early St. P
 atty's Day Bhangra Bash!\n\nSaturday, March 15th\nPublic Works\n161 Er
 ie Street\nSan Francisco\n\nCover:\n$15 pre-sale early bird\nhttp://ww
 w.nsb101.eventbrite.com/\n***cash only bar\n\nTime: 9:00pm-3:00am\nDoo
 rs: 9:00pm\nBhangra Lesson: 9:30pm\nDholrhythms Dance Company: 10:00pm
 \nMusic (DJ's & D2D): 10:30pm-close\n\n\nSPECIAL GUEST HEADLINER:\nDel
 hi 2 Dublin (Vancouver, BC)\n\nNon Stop Bhangra Crew:\nDholrhythms Dan
 ce Company\nDJ Jimmy Love\nDJ Nix (Bol Punjab Dey)\nAmar (Visuals)\nPa
 vit (Dhol)\nMehul (Dhol)\nOdell Hussey (photos)\n\nAfter last two year
 s blow out, Non Stop Bhangra is bringing back special guest headliners
  Delhi 2 Dublin for their annual St. Patty's day Bhangra Bash.  The V
 ancouver, Canada-based band plays an energetic mash-up of Bhangra, Cel
 tic, Dub, Reggae and Electronica with global rhythms and club beats. T
 he band has been together almost six years and has released four full-
 length albums. The Delhi 2 Dublin crew are road warriors. They have pl
 ayed major festivals in both Canada and the U.S. including Bumbershoot
  in Seattle, Earthdance in California, Canada Day on Parliament Hill i
 n Ottawa, Stern Grove in San Francisco as well as such diverse events 
 as SXSW in Austin, TX, the Keelung City Ghost Festival in Taiwan, the 
 BaliSpirit Festival in Indonesia and the 2010 Winter Olympics in Vanco
 uver. In addition, a fresh new album is in the works to be released la
 ter this year. Delhi 2 Dublin has become one of Canada’s most buzzed
 -about bands and Non Stop Bhangra is thrilled to have them in the hous
 e this month.\n\nRounding out the mix, the NSB crew will be doing thei
 r thing as always to make it a non stop party, not to be missed. Still
  holding to its tradition, the night will start off with the famous Bh
 angra dance lesson and performances by Dholrhythms Dance Company and d
 j sets with Jimmy Love and DJ Nix (Bol Punjab Dey) live Dhol with Pavi
 t and Mehul and visuals by Amar to keep the party rocking until 3:00am
 .\n\nA little glimpse of Delhi 2 Dublin:\nhttp://www.youtube.com/watch
 ?v=vGLwaDjWnHI\n\nTHE COLOR THEME THIS MONTH IS GREEN SO JOIN THE VIBE
 !\n\n-----------------------------------------------------------------
 -------------------------------------------------------------------\n\
 nFor those that still don't know what NSB is:\nImagine a scene from a 
 Bollywood movie smack in the middle of a thumping nightclub---swirling
  colors, the rhythm of pounding feet, and the relentless energy of bri
 lliant beats-that’s Non Stop Bhangra.\n\nFor more information visit 
 https://trueskool.com/events/non-stop-bhangra-101-st-patty-s-day-bhang
 ra-bash-ft-delhi-2
DTSTART;TZID=America/Los_Angeles:20140315T210000
DTEND;TZID=America/Los_Angeles:20140316T140000
CATEGORIES:san, francisco, bay, area
LOCATION:Public Works, SF, CA
WEBSITE:http://nsb101eventbrite.com/
URL:http://nsb101eventbrite.com/
CONTACT:415-694-9080
ORGANIZER;CN="Non Stop Bhangra":https://trueskool.com/profile/NonStopB
 hangra
ATTACH;FMTTYPE="image/jpeg":http://storage.ning.com/topology/rest/1.0/
 file/get/2247957676?profile=original
ATTENDEE;ROLE=REQ-PARTICIPANT;PARTSTAT=ACCEPTED;RSVP=TRUE;CN="Non Stop
  Bhangra":https://trueskool.com/profile/NonStopBhangra
END:VEVENT
END:VCALENDAR
