BEGIN:VCALENDAR
PRODID:NingEventWidget-v1
VERSION:2.0
METHOD:PUBLISH
BEGIN:VTIMEZONE
TZID:America/Los_Angeles
X-LIC-LOCATION:America/Los_Angeles
BEGIN:DAYLIGHT
TZOFFSETFROM:-0800
TZOFFSETTO:-0700
TZNAME:PDT
DTSTART:19700308T020000
RRULE:FREQ=YEARLY;BYMONTH=3;BYDAY=2SU
END:DAYLIGHT
BEGIN:STANDARD
TZOFFSETFROM:-0700
TZOFFSETTO:-0800
TZNAME:PST
DTSTART:19701101T020000
RRULE:FREQ=YEARLY;BYMONTH=11;BYDAY=1SU
END:STANDARD
END:VTIMEZONE
BEGIN:VEVENT
UID:1464587:Event:834487
DTSTAMP:20260421T100115Z
SUMMARY:Noise Pop Festival presents Danny Brown
DESCRIPTION:Noise Pop Festival presents Danny Brown\r\nThursday, Febru
 ary 27th, 9:30pm - 2am\r\nPublic Works 161 Erie St. San Francisco,CA 9
 4103\n\nFor more information visit https://trueskool.com/events/noise-
 pop-festival-presents-danny-brown
DTSTART;TZID=America/Los_Angeles:20250227T213000
DTEND;TZID=America/Los_Angeles:20250227T230000
CATEGORIES:"bay area", oakland, "san francisco", "san jose", berkeley
LOCATION:Public Works, SF
WEBSITE:https://www.tixr.com/groups/publicsf/events/noise-pop-festival
 -presents-danny-brown-126585?utm_source=publicsf&amp;utm_medium=venuew
 ebsite
URL:https://www.tixr.com/groups/publicsf/events/noise-pop-festival-pre
 sents-danny-brown-126585?utm_source=publicsf&amp;utm_medium=venuewebsi
 te
CONTACT:
ORGANIZER;CN="Editor's Pick":https://trueskool.com/profile/RentheVinyl
 Archaeologist
ATTACH;FMTTYPE="image/jpeg":https://storage.ning.com/topology/rest/1.0
 /file/get/13432274468?profile=original
ATTENDEE;ROLE=REQ-PARTICIPANT;PARTSTAT=ACCEPTED;RSVP=TRUE;CN="Editor's
  Pick":https://trueskool.com/profile/RentheVinylArchaeologist
END:VEVENT
END:VCALENDAR
