BEGIN:VCALENDAR
PRODID:NingEventWidget-v1
VERSION:2.0
METHOD:PUBLISH
BEGIN:VTIMEZONE
TZID:America/Los_Angeles
X-LIC-LOCATION:America/Los_Angeles
BEGIN:DAYLIGHT
TZOFFSETFROM:-0800
TZOFFSETTO:-0700
TZNAME:PDT
DTSTART:19700308T020000
RRULE:FREQ=YEARLY;BYMONTH=3;BYDAY=2SU
END:DAYLIGHT
BEGIN:STANDARD
TZOFFSETFROM:-0700
TZOFFSETTO:-0800
TZNAME:PST
DTSTART:19701101T020000
RRULE:FREQ=YEARLY;BYMONTH=11;BYDAY=1SU
END:STANDARD
END:VTIMEZONE
BEGIN:VEVENT
UID:1464587:Event:325160
DTSTAMP:20260421T083846Z
SUMMARY:Nohokai Productions and RG Recordings Present: Hiero's Pep Lov
 e & OPIO are **FIRST LIGHT***  plus Amp Live of ZION-I
DESCRIPTION:\n\nFor more information visit https://trueskool.com/event
 s/nohokai-productions-and-rg-recordings-present-hiero-s-pep-love
DTSTART;TZID=America/Los_Angeles:20140328T210000
DTEND;TZID=America/Los_Angeles:20140329T020000
CATEGORIES:chrome, lotus
LOCATION:santa rosa
WEBSITE:
URL:
CONTACT:
ORGANIZER;CN="FREE CITY":https://trueskool.com/profile/JohnDunsing
ATTACH;FMTTYPE="image/jpeg":
ATTENDEE;ROLE=REQ-PARTICIPANT;PARTSTAT=ACCEPTED;RSVP=TRUE;CN="FREE CIT
 Y":https://trueskool.com/profile/JohnDunsing
END:VEVENT
END:VCALENDAR
