BEGIN:VCALENDAR
PRODID:NingEventWidget-v1
VERSION:2.0
METHOD:PUBLISH
BEGIN:VTIMEZONE
TZID:America/Los_Angeles
X-LIC-LOCATION:America/Los_Angeles
BEGIN:DAYLIGHT
TZOFFSETFROM:-0800
TZOFFSETTO:-0700
TZNAME:PDT
DTSTART:19700308T020000
RRULE:FREQ=YEARLY;BYMONTH=3;BYDAY=2SU
END:DAYLIGHT
BEGIN:STANDARD
TZOFFSETFROM:-0700
TZOFFSETTO:-0800
TZNAME:PST
DTSTART:19701101T020000
RRULE:FREQ=YEARLY;BYMONTH=11;BYDAY=1SU
END:STANDARD
END:VTIMEZONE
BEGIN:VEVENT
UID:1464587:Event:69760
DTSTAMP:20260420T163223Z
SUMMARY:NO WAY BACK - One Year Anniversary - Nov 13th w/ SOLAR & CONOR
DESCRIPTION:NO WAY BACK/\n\nResidents SOLAR and CONOR all night...\n\n
 SATURDAY NOVEMBER 13th 2010\n222 Hyde\n$5 RSVP\nfeaturing TURBOSOUND\n
 \n\nNovember 13th marks the one year anniversary of No Way Back.\n\nTh
 ank you to all of the people who have helped support No Way Back over 
 the past year.\n\nAlso, a big thank you to all of our past guests and 
 co-promoters including: Pal Joey, Ewan Pearson, The Beat Broker, 40 Th
 ieves, Jeno, Woolfy, T.K. Disko, 'Even' Ian, Tony Watson, Hatchback, T
 revor Jackson, Andre Андрюша, Anthony Mansfield, Soft Rocks, Th
 omas, Mike Huckaby, Maurice Fulton, NoiseFromTheVoid, Hot Biscuit, and
  Beats In Space.\n\nNext Moth's Guest will be MORGAN GEIST (Metro Area
 , Environ) from NYC\n\nABOUT NO WAY BACK (Become A Fan!):\n\nhttp://ww
 w.facebook.com/#!/pages/San-Francisco-CA/No-Way-Back/277776360698?ref=
 ts&ajaxpipe=1&__a=12\n\nFor more information visit https://trueskool.c
 om/events/no-way-back-one-year
DTSTART;TZID=America/Los_Angeles:20101113T220000
DTEND;TZID=America/Los_Angeles:20101114T020000
CATEGORIES:san, francisco, ca
LOCATION:222 Hyde, San Francisco, CA
WEBSITE:http://www.facebook.com/photo.php?fbid=421415311254&set=t.6148
 52545#!/event.php?eid=157399887632184
URL:http://www.facebook.com/photo.php?fbid=421415311254&set=t.61485254
 5#!/event.php?eid=157399887632184
CONTACT:
ORGANIZER;CN="conor sf":https://trueskool.com/profile/conorsf
ATTACH;FMTTYPE="image/jpeg":http://storage.ning.com/topology/rest/1.0/
 file/get/2247885801?profile=original
ATTENDEE;ROLE=REQ-PARTICIPANT;PARTSTAT=ACCEPTED;RSVP=TRUE;CN="conor sf
 ":https://trueskool.com/profile/conorsf
END:VEVENT
END:VCALENDAR
