BEGIN:VCALENDAR
PRODID:NingEventWidget-v1
VERSION:2.0
METHOD:PUBLISH
BEGIN:VTIMEZONE
TZID:America/Los_Angeles
X-LIC-LOCATION:America/Los_Angeles
BEGIN:DAYLIGHT
TZOFFSETFROM:-0800
TZOFFSETTO:-0700
TZNAME:PDT
DTSTART:19700308T020000
RRULE:FREQ=YEARLY;BYMONTH=3;BYDAY=2SU
END:DAYLIGHT
BEGIN:STANDARD
TZOFFSETFROM:-0700
TZOFFSETTO:-0800
TZNAME:PST
DTSTART:19701101T020000
RRULE:FREQ=YEARLY;BYMONTH=11;BYDAY=1SU
END:STANDARD
END:VTIMEZONE
BEGIN:VEVENT
UID:1464587:Event:62340
DTSTAMP:20260420T231732Z
SUMMARY:NO WAY BACK - MIKE HUCKABY (Detroit) Sat August 14th w/ SOLAR 
 and CONOR
DESCRIPTION:NO WAY BACK/\n\nMIKE HUCKABY (Detroit)\n(Harmonie Park, De
 ep Transportation, S Y N T H, Resident Advisor)\n\nSOLAR\n(Sunset, Ban
 g The Box)\n\nCONOR\n(No Way Back, Bionic)\n\nSATURDAY AUGUST 14th 201
 0\n222 Hyde\n$10/$5 RSVP\nfeaturing TURBOSOUND\n\n////////////////////
 ////////////////////////////////////////////\n\nABOUT MIKE HUCKABY:\n\
 nThe formula is simple. Develope new skills, combine the outcome with 
 history, and lead the way with unprecedented risk taking. Mike Huckaby
  began djing several years ago with that same formula intact. He has b
 een the key Dj at Record Time, the number one source for electronic mu
 sic in Detroit for over a decade now. Mke has surpassed the 1 million 
 mark of selling vinyl to the Detroit community, and electronic audienc
 e worldwide. In other words, your mom has bought records from Mike Huc
 kaby.\n\nAfter spending several years of building a solid foundation i
 n synthesis, and music production, Mike launched Deep Transportation, 
 and SYNTH as his own recording labels, which are well known amongst un
 derground djs worldwide. Furthermore as a trained representative by Na
 tive Instruments, Mike says REAKTOR will help him reshape Detroit, mas
 ter Sun Ra's chords, and create a new destiny.\n\nWith highly acclaime
 d deep house productions and remixes for Deepchord, Juan Atkins, Vladi
 slav Delay, Pole, Loco Dice, and Pacou,\n(just to name a few ) Mike se
 es no end in the near future. Furthermore, he has been touring, djing,
  and teaching music production around the globe extensively.\n\nMike b
 rings the Detroit sound of deep house and techno with him. He knows th
 e balance between deep house and techno like no other.\nMike Huckaby..
 . rocking the decks from Iowa to Japan since '92.\n\nhttp://www.myspac
 e.com/mikehuckaby\n\nhttp://www.facebook.com/pages/Mike-Huckaby/442141
 85849?ref=search\n\nhttp://soundcloud.com/r_co/mike-huckaby-mixmag-inf
 o-podcast-june-2010\n\nABOUT NO WAY BACK (Become A Fan!):\n\nhttp://ww
 w.facebook.com/#!/pages/San-Francisco-CA/No-Way-Back/277776360698?ref=
 ts&ajaxpipe=1&__a=12\n\nEVENT:\n\nhttp://www.facebook.com/event.php?ei
 d=147197181957315\n\nFor more information visit https://trueskool.com/
 events/no-way-back-mike-huckaby
DTSTART;TZID=America/Los_Angeles:20100814T213000
DTEND;TZID=America/Los_Angeles:20100815T020000
CATEGORIES:house, disco, techno, rock
LOCATION:222 Hyde, San Francisco
WEBSITE:http://222hyde.com/
URL:http://222hyde.com/
CONTACT:
ORGANIZER;CN="conor sf":https://trueskool.com/profile/conorsf
ATTACH;FMTTYPE="image/jpeg":http://storage.ning.com/topology/rest/1.0/
 file/get/2247882277?profile=original
ATTENDEE;ROLE=REQ-PARTICIPANT;PARTSTAT=ACCEPTED;RSVP=TRUE;CN="conor sf
 ":https://trueskool.com/profile/conorsf
END:VEVENT
END:VCALENDAR
