BEGIN:VCALENDAR
PRODID:NingEventWidget-v1
VERSION:2.0
METHOD:PUBLISH
BEGIN:VTIMEZONE
TZID:America/Los_Angeles
X-LIC-LOCATION:America/Los_Angeles
BEGIN:DAYLIGHT
TZOFFSETFROM:-0800
TZOFFSETTO:-0700
TZNAME:PDT
DTSTART:19700308T020000
RRULE:FREQ=YEARLY;BYMONTH=3;BYDAY=2SU
END:DAYLIGHT
BEGIN:STANDARD
TZOFFSETFROM:-0700
TZOFFSETTO:-0800
TZNAME:PST
DTSTART:19701101T020000
RRULE:FREQ=YEARLY;BYMONTH=11;BYDAY=1SU
END:STANDARD
END:VTIMEZONE
BEGIN:VEVENT
UID:1464587:Event:137090
DTSTAMP:20260421T033746Z
SUMMARY:NKC 3RD ANNUAL \"BATTLE OF THE COSTUMES\"
DESCRIPTION:OUR 3RD ANNUAL BATTLE OF THE COSTUMES.. WITH THE BEST BAY 
 AREA DJ LINEUP\nDJ YOUNG FYAH\nDJ DEE\nDJ SENSELESS\n\nNO COVER W COST
 UME BEFORE 1AM \n$15 OTHERWISE\n\nBEST COSTUME WINS YOU $300 IN COLD 
 CASH\nSO COME DRESSED UP IN YOUR BEST !!!!!\n\nFor more information vi
 sit https://trueskool.com/events/nkc-3rd-annual-battle-of-the-costumes
DTSTART;TZID=America/Los_Angeles:20121027T220000
DTEND;TZID=America/Los_Angeles:20121028T040000
CATEGORIES:bay, area
LOCATION:NEW KARIBBEAN CITY
WEBSITE:http://NKCOAKLAND.COM
URL:http://NKCOAKLAND.COM
CONTACT:5102826898
ORGANIZER;CN="new karibbean city":https://trueskool.com/profile/newkar
 ibbeancity
ATTACH;FMTTYPE="image/jpeg":http://storage.ning.com/topology/rest/1.0/
 file/get/2247928101?profile=original
ATTENDEE;ROLE=REQ-PARTICIPANT;PARTSTAT=ACCEPTED;RSVP=TRUE;CN="new kari
 bbean city":https://trueskool.com/profile/newkaribbeancity
END:VEVENT
END:VCALENDAR
