BEGIN:VCALENDAR
PRODID:NingEventWidget-v1
VERSION:2.0
METHOD:PUBLISH
BEGIN:VTIMEZONE
TZID:America/Los_Angeles
X-LIC-LOCATION:America/Los_Angeles
BEGIN:DAYLIGHT
TZOFFSETFROM:-0800
TZOFFSETTO:-0700
TZNAME:PDT
DTSTART:19700308T020000
RRULE:FREQ=YEARLY;BYMONTH=3;BYDAY=2SU
END:DAYLIGHT
BEGIN:STANDARD
TZOFFSETFROM:-0700
TZOFFSETTO:-0800
TZNAME:PST
DTSTART:19701101T020000
RRULE:FREQ=YEARLY;BYMONTH=11;BYDAY=1SU
END:STANDARD
END:VTIMEZONE
BEGIN:VEVENT
UID:1464587:Event:33996
DTSTAMP:20260422T182911Z
SUMMARY:NinjaTune Party w/DAEDELUS (Live) & POIRER +Mochipet
DESCRIPTION:THUR JUNE 18\nblasthaus presents a\nNINJATUNE Party featur
 ing\nDAEDELUS (Live) & GHISLAIN POIRER\n+ Mochipet (Live)\n\nMighty: 1
 19 Utah Street / SF /9PM Doors/ 21+ up\n$10 Advance at http://www.blas
 thaus.com\n\nIt's time for Ninja bizness. Get ready. Special guests Da
 edalus & Ghislain Poirier are putting something special together and i
 ts going to be Hot. Both these cats have new records out and both are 
 riding a wave of acclaim from all over the place, becoming the new Nin
 ja poster boys. It goes without saying that this will be not unlike mo
 st every Ninjatune party, so prepare yourself for some serious crazine
 ss on the dancefloor and some of the freshest music of the moment. Sup
 port from local hero Mochipet (Daly City Records).\n\n$10 limited adva
 nce tickets onsale now ($1.50 service charge applies) / 9:00pm - 2:00a
 m / 21+ up\nhttp://www.blasthaus.com\n\nFor more information visit htt
 ps://trueskool.com/events/ninjatune-party-wdaedelus-live
DTSTART;TZID=America/Los_Angeles:20090618T210000
DTEND;TZID=America/Los_Angeles:20090619T020000
CATEGORIES:dub, step, ghetto, hip, hop, "r&b"
LOCATION:Mighty
WEBSITE:http://www.blasthaus.com
URL:http://www.blasthaus.com
CONTACT:
ORGANIZER;CN=blasthaus:https://trueskool.com/profile/blasthaus
ATTACH;FMTTYPE="image/jpeg":http://storage.ning.com/topology/rest/1.0/
 file/get/2247858681?profile=original
ATTENDEE;ROLE=REQ-PARTICIPANT;PARTSTAT=ACCEPTED;RSVP=TRUE;CN=blasthaus
 :https://trueskool.com/profile/blasthaus
END:VEVENT
END:VCALENDAR
