BEGIN:VCALENDAR
PRODID:NingEventWidget-v1
VERSION:2.0
METHOD:PUBLISH
BEGIN:VTIMEZONE
TZID:America/Los_Angeles
X-LIC-LOCATION:America/Los_Angeles
BEGIN:DAYLIGHT
TZOFFSETFROM:-0800
TZOFFSETTO:-0700
TZNAME:PDT
DTSTART:19700308T020000
RRULE:FREQ=YEARLY;BYMONTH=3;BYDAY=2SU
END:DAYLIGHT
BEGIN:STANDARD
TZOFFSETFROM:-0700
TZOFFSETTO:-0800
TZNAME:PST
DTSTART:19701101T020000
RRULE:FREQ=YEARLY;BYMONTH=11;BYDAY=1SU
END:STANDARD
END:VTIMEZONE
BEGIN:VEVENT
UID:1464587:Event:68130
DTSTAMP:20260420T163347Z
SUMMARY:Ninja Tune 20th Anniversary ft. Amon Tobin, Kid Koala, DJ Food
 ,...
DESCRIPTION:CLICK HERE FOR TICKETS:\nhttp://reg.inticketing.com/events
 /123625/Ninja-Tune-20th-Anniversary\n\n\nFri. October 29, 2010\nConver
 se, An-ten-nae, Sunset & XLR8R\nNinja Tune 20th Anniversary\nPresented
  By\nA FREE EVENT CELEBRATING 20 YEARS OF INCREDIBLE NINJA TUNE MUSIC.
 \n\n\nFeaturing:\nNinja Tune DJs:\nAmon Tobin\nKid Koala\nDJ Food & DK
 \nToddla T & Serocee, Eskmo, Kentaro, Ghostbeard\n\nSpecial Guests:\nI
 ll Gates\nLowriderz feat. AnTenNae & Laura (Muti-SF)\nMotion Potion (S
 unset)\nJ.Boogie (Om)\nDJ Centipede of Mophono (Bastard Jazz)\nRipley 
 (Surya Dub)\nRen the Vinyl Archaeologist (True Skool)\nToph 1 (Red Win
 e)\nSenor Oz (Afrolicious)\nMalarkey (Juke Joint)\nU9Lift (Fully Autom
 ated Recordings)\n\n1015 Folsom\n1015 Folsom Street\nSan Francisco, CA
 \nUS 94103\nInfo/Tix: http://reg.inticketing.com/events/123625/Ninja-T
 une-20th-Anniversary\n\nFor more information visit https://trueskool.c
 om/events/ninja-tune-20th-anniversary-ft
DTSTART;TZID=America/Los_Angeles:20101029T200000
DTEND;TZID=America/Los_Angeles:20101030T040000
CATEGORIES:san, francisco, ca
LOCATION:1015, San Francisco, CA
WEBSITE:
URL:
CONTACT:
ORGANIZER:Converse, An-ten-nae & Sunset
ATTACH;FMTTYPE="image/jpeg":http://storage.ning.com/topology/rest/1.0/
 file/get/2247883810?profile=original
ATTENDEE;ROLE=REQ-PARTICIPANT;PARTSTAT=ACCEPTED;RSVP=TRUE;CN=DirtyNuke
 s:https://trueskool.com/profile/DirtyNukes
ATTENDEE;ROLE=REQ-PARTICIPANT;PARTSTAT=ACCEPTED;RSVP=TRUE;CN="Ren the 
 Vinyl Archaeologist":https://trueskool.com/profile/xh51jvilojur
END:VEVENT
END:VCALENDAR
