BEGIN:VCALENDAR
PRODID:NingEventWidget-v1
VERSION:2.0
METHOD:PUBLISH
BEGIN:VTIMEZONE
TZID:America/Los_Angeles
X-LIC-LOCATION:America/Los_Angeles
BEGIN:DAYLIGHT
TZOFFSETFROM:-0800
TZOFFSETTO:-0700
TZNAME:PDT
DTSTART:19700308T020000
RRULE:FREQ=YEARLY;BYMONTH=3;BYDAY=2SU
END:DAYLIGHT
BEGIN:STANDARD
TZOFFSETFROM:-0700
TZOFFSETTO:-0800
TZNAME:PST
DTSTART:19701101T020000
RRULE:FREQ=YEARLY;BYMONTH=11;BYDAY=1SU
END:STANDARD
END:VTIMEZONE
BEGIN:VEVENT
UID:1464587:Event:113278
DTSTAMP:20260421T002943Z
SUMMARY:Night Moves
DESCRIPTION:Night Moves(a night specializing in Disco, House, Moombahs
 oul, Boogie & Funk)w/ special guests:Jimmy Edgar (Warp/ !K7)B. Bravo (
 Frite Nite, Starship Connection)and residents:J Boogie (Om Records)DJ 
 Theory (Large Up)Saturday, Feb 25thMonarch SF101 Sixth St., San Franci
 sco, CA9PM to 2AM | $5 B4 10 | $10 | 21+\nhttp://www.facebook.com/even
 ts/245698735507075/Night Moves is a concept to unite the veteran San F
 rancisco house music vibes with emerging sounds of modern funk, nu-dis
 co and moombahsoul. Imagine classic Chicago Trax blended with the curr
 ent Disco Boogie revival. Podcasts, edits, and club nights will be cur
 ated in an effort to break the boundaries in San Franciscoâ€™s dance m
 usic scene. Night Moves kicks off at Monarch on Saturday, February 25t
 h. Podcasts and edits will be released for free download monthly.Â Che
 ck out the Jimmy Edgar Louche Music Podcast:http://www.louchemusic.com
 /podcast/jimmy-edgar/\nÂ \nJimmy Edgar puts together an old school hou
 se mixtape for Warmer Crimes:http://warmer-climes.blogspot.com/2011/05
 /warmer-mixtapes-372-by-jimmy-edgar-im.html\nÂ \nhttp://www.jimmyedgar
 .com/\nÂ \nhttp://www.monarchsf.com/\nÂ \nhttp://www.fritenite.com/\nÂ
  \nhttp://www.uni4rm.com/\nÂ \nhttp://www.jboogie.com/\nÂ \n\nFor more
  information visit https://trueskool.com/events/night-moves-1
DTSTART;TZID=America/Los_Angeles:20120225T210000
DTEND;TZID=America/Los_Angeles:20120226T020000
CATEGORIES:san, francisco
LOCATION:Monarch, SF
WEBSITE:http://www.monarchsf.com
URL:http://www.monarchsf.com
CONTACT:
ORGANIZER;CN="Louie B":https://trueskool.com/profile/LouieB
ATTACH;FMTTYPE="image/jpeg":http://storage.ning.com/topology/rest/1.0/
 file/get/2247907121?profile=original
ATTENDEE;ROLE=REQ-PARTICIPANT;PARTSTAT=ACCEPTED;RSVP=TRUE;CN="Louie B"
 :https://trueskool.com/profile/LouieB
END:VEVENT
END:VCALENDAR
