BEGIN:VCALENDAR
PRODID:NingEventWidget-v1
VERSION:2.0
METHOD:PUBLISH
BEGIN:VTIMEZONE
TZID:America/Los_Angeles
X-LIC-LOCATION:America/Los_Angeles
BEGIN:DAYLIGHT
TZOFFSETFROM:-0800
TZOFFSETTO:-0700
TZNAME:PDT
DTSTART:19700308T020000
RRULE:FREQ=YEARLY;BYMONTH=3;BYDAY=2SU
END:DAYLIGHT
BEGIN:STANDARD
TZOFFSETFROM:-0700
TZOFFSETTO:-0800
TZNAME:PST
DTSTART:19701101T020000
RRULE:FREQ=YEARLY;BYMONTH=11;BYDAY=1SU
END:STANDARD
END:VTIMEZONE
BEGIN:VEVENT
UID:1464587:Event:661679
DTSTAMP:20260422T093930Z
SUMMARY:NICE w DJ Apollo, Fran Boogie and Guest DJ Umami
DESCRIPTION:NICE people, NICE music, NICE venue and always a NIC
 E time.\nCover is $5 ALL NIGHT | April Birthdays FREE ALL NIGHT +\nC
 elebrating A Special Occasion?\nEmail, party@johncolins.com for bott
 le service and private room reservations.\nFellas, let’s keep it cla
 ssy and dress it up. Ladies, do you and keep it sexy as you always do.
 \n \n\nFor more information visit https://trueskool.com/events/nice-w
 -dj-apollo-fran-boogie-and-guest-dj-umami
DTSTART;TZID=America/Los_Angeles:20170422T220000
DTEND;TZID=America/Los_Angeles:20170423T020000
CATEGORIES:san, francisco, soma, financial, district
LOCATION:JohnColins, San Francisco, CA
WEBSITE:http://johncolins.com/events/nice/
URL:http://johncolins.com/events/nice/
CONTACT:
ORGANIZER;CN=JohnColins:https://trueskool.com/profile/JohnColins27
ATTACH;FMTTYPE="image/jpeg":http://storage.ning.com/topology/rest/1.0/
 file/get/2247996202?profile=original
ATTENDEE;ROLE=REQ-PARTICIPANT;PARTSTAT=ACCEPTED;RSVP=TRUE;CN=JohnColin
 s:https://trueskool.com/profile/JohnColins27
END:VEVENT
END:VCALENDAR
