BEGIN:VCALENDAR
PRODID:NingEventWidget-v1
VERSION:2.0
METHOD:PUBLISH
BEGIN:VTIMEZONE
TZID:America/Los_Angeles
X-LIC-LOCATION:America/Los_Angeles
BEGIN:DAYLIGHT
TZOFFSETFROM:-0800
TZOFFSETTO:-0700
TZNAME:PDT
DTSTART:19700308T020000
RRULE:FREQ=YEARLY;BYMONTH=3;BYDAY=2SU
END:DAYLIGHT
BEGIN:STANDARD
TZOFFSETFROM:-0700
TZOFFSETTO:-0800
TZNAME:PST
DTSTART:19701101T020000
RRULE:FREQ=YEARLY;BYMONTH=11;BYDAY=1SU
END:STANDARD
END:VTIMEZONE
BEGIN:VEVENT
UID:1464587:Event:286244
DTSTAMP:20260420T181704Z
SUMMARY:New Years Eve | Pleasure P | Bad Girls Club
DESCRIPTION:Join us this NYE for a spectacular event at The Regency Ce
 nter in San Francisco!This event will sell out so get your EARLY BIRD 
 DISCOUNTED TICKETS AVAILABLE HERE ---> http://bellaheadquartersNYEbas
 h.eventbrite.com/This will be a nice upscale event with a great cause.
  Come out and support the Cameron Early Intervention & Access Transiti
 on for Autism Foundation. A portion of the proceeds will be donated t
 o their organizations. We will be bringing you models showcasing some 
 of the hottest styles by Shemil Maxwell of Bella Headquarters Salon. G
 et ready to bring in the New Year with “JEN and NANCY of the BAD GIR
 LS CLUB” with a live performance by Grammy award nominated R&B singe
 r/songwriter Marcus “PLEASURE P” Cooper.BIRTHDAY CELEBRATION for T
 HE BAY AREAS own Jonez Cain Actress, Singer/Songwriter and Model; Ms. 
 Cain is most known for ”Fruitvale Station” where she has a cameo a
 ppearance as the character Danae; Jo’nez also served as Oscar winner
  Octavia Spencer’s stand-in for the Sundance award winning filmEVENT
  FEATURES:Live performanceModels styled by Bella Headquarters SalonDre
 ss Code(Collared Shirts and Dress Shoes for Men are REQUIRED, Ladies i
 n Dresses)Valet & Self Parking AvailableFull VIP Table Service Availab
 le21+ ID RequiredSupported by PreciseFor more information about reserv
 ing your VIP table please contact kashkoncepts@gmail.com or call 415-5
 78-0245 | 415-496-5068\n\nFor more information visit https://trueskool
 .com/events/new-years-eve-pleasure-p-bad-girls-club
DTSTART;TZID=America/Los_Angeles:20131231T210000
DTEND;TZID=America/Los_Angeles:20140101T020000
CATEGORIES:nye, new, years, eve, autism, fundraiser, sf, san, francisc
 o, bad, girls, club, kash, koncepts
LOCATION:The Regency Center
WEBSITE:http://bellaheadquartersNYEbash.eventbrite.com/
URL:http://bellaheadquartersNYEbash.eventbrite.com/
CONTACT:415-496-5068
ORGANIZER:Kash Koncepts
ATTACH;FMTTYPE="image/jpeg":http://storage.ning.com/topology/rest/1.0/
 file/get/2247955429?profile=original
ATTENDEE;ROLE=REQ-PARTICIPANT;PARTSTAT=ACCEPTED;RSVP=TRUE;CN=Kash:http
 s://trueskool.com/profile/Kash
END:VEVENT
END:VCALENDAR
