BEGIN:VCALENDAR
PRODID:NingEventWidget-v1
VERSION:2.0
METHOD:PUBLISH
BEGIN:VTIMEZONE
TZID:America/Los_Angeles
X-LIC-LOCATION:America/Los_Angeles
BEGIN:DAYLIGHT
TZOFFSETFROM:-0800
TZOFFSETTO:-0700
TZNAME:PDT
DTSTART:19700308T020000
RRULE:FREQ=YEARLY;BYMONTH=3;BYDAY=2SU
END:DAYLIGHT
BEGIN:STANDARD
TZOFFSETFROM:-0700
TZOFFSETTO:-0800
TZNAME:PST
DTSTART:19701101T020000
RRULE:FREQ=YEARLY;BYMONTH=11;BYDAY=1SU
END:STANDARD
END:VTIMEZONE
BEGIN:VEVENT
UID:1464587:Event:151896
DTSTAMP:20260421T021246Z
SUMMARY:New Year’s Eve Dance Fiesta with Orquesta La Moderna Tradici
 on
DESCRIPTION:Possibly the only orchestra of its kind inside or outside 
 of Cuba, Orquesta La Moderna Tradición dedicates itself to the perfor
 mance of classic Cuban dance music, especially the lilting grooves of 
 the danzon. A legendary ballroom style that developed from the synchro
 nization of African and European music in Cuba, danzon lends the groov
 e of Afro-Cuban drums to the refined riffs of flute and violins. Orque
 sta La Moderna Tradición performs classics of the genre along with or
 iginal compositions designed to keep the tradition alive and kicking. 
 In addition to danzones, Orquesta plays the gambit of traditional and 
 modern Cuban styles, from sones to songos, from cha-cha-cha to timba.\
 n\nFor more information visit https://trueskool.com/events/new-year-s-
 eve-dance-fiesta-with-orquesta-la-moderna-tradicion
DTSTART;TZID=America/Los_Angeles:20121231T213000
DTEND;TZID=America/Los_Angeles:20130101T143000
CATEGORIES:berkeley, ca
LOCATION:La Peña Cultural Center, Berkeley, CA
WEBSITE:http://$26 adv. $30 dr.
URL:http://$26 adv. $30 dr.
CONTACT:510-849-2568
ORGANIZER;CN="La Peña Cultural Center":https://trueskool.com/profile/
 LaPenaCulturalCenter
ATTACH;FMTTYPE="image/jpeg":http://storage.ning.com/topology/rest/1.0/
 file/get/2247930805?profile=original
ATTENDEE;ROLE=REQ-PARTICIPANT;PARTSTAT=ACCEPTED;RSVP=TRUE;CN="La Peña
  Cultural Center":https://trueskool.com/profile/LaPenaCulturalCenter
END:VEVENT
END:VCALENDAR
