BEGIN:VCALENDAR
PRODID:NingEventWidget-v1
VERSION:2.0
METHOD:PUBLISH
BEGIN:VTIMEZONE
TZID:America/Los_Angeles
X-LIC-LOCATION:America/Los_Angeles
BEGIN:DAYLIGHT
TZOFFSETFROM:-0800
TZOFFSETTO:-0700
TZNAME:PDT
DTSTART:19700308T020000
RRULE:FREQ=YEARLY;BYMONTH=3;BYDAY=2SU
END:DAYLIGHT
BEGIN:STANDARD
TZOFFSETFROM:-0700
TZOFFSETTO:-0800
TZNAME:PST
DTSTART:19701101T020000
RRULE:FREQ=YEARLY;BYMONTH=11;BYDAY=1SU
END:STANDARD
END:VTIMEZONE
BEGIN:VEVENT
UID:1464587:Event:660129
DTSTAMP:20260422T164653Z
SUMMARY:NEW ORDER
DESCRIPTION:NEW ORDER\nPoliÃ§a Greek Theatre Berkeley, CA Friday, Apri
 l 21, 2017 Show: 7:30pm\n$59.50 â€“ General Admission\n*plus applicabl
 e service fees\nPresale begins Thursday, January 12th at 10am! (passwo
 rd = complete)\nThe general on sale begins Friday, January 13th at 10a
 m.\nTickets are also available service charge free at The Fox Theaterâ
 €™s Box Office (located on the 19th street side of the theater) on sho
 w dates and on Fridays from noon â€“ 7:00pm.\n\nFor more information v
 isit https://trueskool.com/events/new-order
DTSTART;TZID=America/Los_Angeles:20170421T193000
DTEND;TZID=America/Los_Angeles:20170421T230000
CATEGORIES:"san francisco", oakland, berkley, "san jose", "bay area"
LOCATION:Greek Theatre, Berkley
WEBSITE:http://www.ticketmaster.com/Greek-TheatreUC-Berkeley-tickets-B
 erkeley/venue/229421?tm_link=edp_Venue_Name_1
URL:http://www.ticketmaster.com/Greek-TheatreUC-Berkeley-tickets-Berke
 ley/venue/229421?tm_link=edp_Venue_Name_1
CONTACT:
ORGANIZER;CN="Editor's Pick":https://trueskool.com/profile/RentheVinyl
 Archaeologist
ATTACH;FMTTYPE="image/jpeg":http://storage.ning.com/topology/rest/1.0/
 file/get/2247995795?profile=original
ATTENDEE;ROLE=REQ-PARTICIPANT;PARTSTAT=ACCEPTED;RSVP=TRUE;CN="Editor's
  Pick":https://trueskool.com/profile/RentheVinylArchaeologist
END:VEVENT
END:VCALENDAR
