BEGIN:VCALENDAR
PRODID:NingEventWidget-v1
VERSION:2.0
METHOD:PUBLISH
BEGIN:VTIMEZONE
TZID:America/Los_Angeles
X-LIC-LOCATION:America/Los_Angeles
BEGIN:DAYLIGHT
TZOFFSETFROM:-0800
TZOFFSETTO:-0700
TZNAME:PDT
DTSTART:19700308T020000
RRULE:FREQ=YEARLY;BYMONTH=3;BYDAY=2SU
END:DAYLIGHT
BEGIN:STANDARD
TZOFFSETFROM:-0700
TZOFFSETTO:-0800
TZNAME:PST
DTSTART:19701101T020000
RRULE:FREQ=YEARLY;BYMONTH=11;BYDAY=1SU
END:STANDARD
END:VTIMEZONE
BEGIN:VEVENT
UID:1464587:Event:450701
DTSTAMP:20260421T051025Z
SUMMARY:New Kingston featuring Iya Terra / True Press
DESCRIPTION:\n\n\n\nNew Kingston featuring Iya Terra / True Press\n\n\
 n\n\n\n \n\n\nConstellation RoomSanta Ana, CA\n\nSat, 11/15/1408:00 
 PM\n\n\n\n\n\n\nFor more information visit https://trueskool.com/event
 s/new-kingston-featuring-iya-terra-true-press
DTSTART;TZID=America/Los_Angeles:20141115T200000
DTEND;TZID=America/Los_Angeles:20141115T230000
CATEGORIES:"los angeles"
LOCATION:Constellation Room
WEBSITE:http://www.ticketmaster.com/partner_redirect?v=on03lzgON0vJLyW
 EATJZG88lmU5zbhsWyI5aE6gqmtt-JVLrf6QtMew5WBNP69dXi_s4wJVvqkkW6j3JTPlFH
 vCiVsI-OrItQBR_33C8LwuSW94-ohyK_SGBPEHQf0KSjT-xtRHiLEWvTyZC8jwHCpx9AEK
 hqSskE0eGwf8-JF2A00Sh8jVZ_GvTLeDL6NATPsGwVbNqJLqDciOgdQ&eventid=29004D
 0E1C505A5D&artistid=1547571&artistname=New%20Kingston%20featuring%20Iy
 a%20Terra%20/%20True%20Press&crosssite=TM_US:1547571:343858
URL:http://www.ticketmaster.com/partner_redirect?v=on03lzgON0vJLyWEATJ
 ZG88lmU5zbhsWyI5aE6gqmtt-JVLrf6QtMew5WBNP69dXi_s4wJVvqkkW6j3JTPlFHvCiV
 sI-OrItQBR_33C8LwuSW94-ohyK_SGBPEHQf0KSjT-xtRHiLEWvTyZC8jwHCpx9AEKhqSs
 kE0eGwf8-JF2A00Sh8jVZ_GvTLeDL6NATPsGwVbNqJLqDciOgdQ&eventid=29004D0E1C
 505A5D&artistid=1547571&artistname=New%20Kingston%20featuring%20Iya%20
 Terra%20/%20True%20Press&crosssite=TM_US:1547571:343858
CONTACT:
ORGANIZER;CN="Editor's Pick":https://trueskool.com/profile/RentheVinyl
 Archaeologist
ATTACH;FMTTYPE="image/jpeg":http://storage.ning.com/topology/rest/1.0/
 file/get/2247970355?profile=original
ATTENDEE;ROLE=REQ-PARTICIPANT;PARTSTAT=ACCEPTED;RSVP=TRUE;CN="Editor's
  Pick":https://trueskool.com/profile/RentheVinylArchaeologist
END:VEVENT
END:VCALENDAR
