BEGIN:VCALENDAR
PRODID:NingEventWidget-v1
VERSION:2.0
METHOD:PUBLISH
BEGIN:VTIMEZONE
TZID:America/Los_Angeles
X-LIC-LOCATION:America/Los_Angeles
BEGIN:DAYLIGHT
TZOFFSETFROM:-0800
TZOFFSETTO:-0700
TZNAME:PDT
DTSTART:19700308T020000
RRULE:FREQ=YEARLY;BYMONTH=3;BYDAY=2SU
END:DAYLIGHT
BEGIN:STANDARD
TZOFFSETFROM:-0700
TZOFFSETTO:-0800
TZNAME:PST
DTSTART:19701101T020000
RRULE:FREQ=YEARLY;BYMONTH=11;BYDAY=1SU
END:STANDARD
END:VTIMEZONE
BEGIN:VEVENT
UID:1464587:Event:650106
DTSTAMP:20260421T093423Z
SUMMARY:negusworld wide party 2016
DESCRIPTION:Co-hosts:KBLX radio host Sterling JamesNegusWorld co-found
 er Johwell St-CilienLive performances by:Khafre Jay of Hip Hop for C
 hangeAdimu Madyun of Prosperity MovementTatu Vision and Stoney Cre
 ationRuby MountainLocation & Time:Starline Social Club, 645 West Grand
  ave, Oakland9PM - 2AMTickets: http://negusworldwideparty.brownpapert
 ickets.com/DJ & performances:Brooklyn, NY resident DJ Still1 Art gall
 ery by Bobby Arte.Come early for a chance to win two of his beautiful 
 art pieces:http://www.bobbyarte.com/ Co-sponsor:DESMOND TUTU PEACE FO
 UNDATION - Feature and introduction of the NegusWorld Youth performanc
 e by Desmond Tutu's grandson, Xabiso Tutu-Gxashe. PLEASE JOIN US IN C
 ELEBRATION OF OUR THIRD ANNUAL 24-HOUR WORLDWIDE FUNDRAISER TO SUPPORT
  A SCHOOL IN TANZANIA! CLOSE TO 20 OTHER EVENTS ARE CONFIRMED ON 3 CON
 TINENTS:https://www.facebook.com/events/1575666316094215/This year, Ne
 gusWorld is partnering with MAMA HOPE, a San Francisco-based nonprofit
  that trains impact entrepreneurs around the world, and the recipient 
 organization of the NWWP 2016 fundraiser is a school based in Mlali, T
 anzania called \"Queen Elizabeth Academy\" (QEA).The NegusWorld Wide P
 arty is looking to help QEA achieve self-sustainability and equal acce
 ss to education through building of a boarding house which will provid
 e independent income: the house will welcome middle-class students fro
 m all over Tanzania for a small fee that will subsidize the education 
 and meals of local students who would not otherwise have the means to 
 attend.\n\nFor more information visit https://trueskool.com/events/neg
 usworld-wide-party-2016
DTSTART;TZID=America/Los_Angeles:20160604T210000
DTEND;TZID=America/Los_Angeles:20160605T020000
CATEGORIES:starline, social, club
LOCATION:Oakland, CA
WEBSITE:http://negusworldwideparty.brownpapertickets.com/
URL:http://negusworldwideparty.brownpapertickets.com/
CONTACT:3475832429
ORGANIZER;CN=JOhwell:https://trueskool.com/profile/JOhwell
ATTACH;FMTTYPE="image/jpeg":http://storage.ning.com/topology/rest/1.0/
 file/get/2247991026?profile=original
ATTENDEE;ROLE=REQ-PARTICIPANT;PARTSTAT=ACCEPTED;RSVP=TRUE;CN=JOhwell:h
 ttps://trueskool.com/profile/JOhwell
END:VEVENT
END:VCALENDAR
