BEGIN:VCALENDAR
PRODID:NingEventWidget-v1
VERSION:2.0
METHOD:PUBLISH
BEGIN:VTIMEZONE
TZID:America/Los_Angeles
X-LIC-LOCATION:America/Los_Angeles
BEGIN:DAYLIGHT
TZOFFSETFROM:-0800
TZOFFSETTO:-0700
TZNAME:PDT
DTSTART:19700308T020000
RRULE:FREQ=YEARLY;BYMONTH=3;BYDAY=2SU
END:DAYLIGHT
BEGIN:STANDARD
TZOFFSETFROM:-0700
TZOFFSETTO:-0800
TZNAME:PST
DTSTART:19701101T020000
RRULE:FREQ=YEARLY;BYMONTH=11;BYDAY=1SU
END:STANDARD
END:VTIMEZONE
BEGIN:VEVENT
UID:1464587:Event:65099
DTSTAMP:20260420T144749Z
SUMMARY:Need for Speed Hot Pursuit On Tour ft. Mixmaster Mike & Del th
 e Funky Homosapien
DESCRIPTION:RSVP REQUIRED FOR ADMISSION. CLICK HERE:\nhttp://www.event
 brite.com/event/820050794/efblike\n(Reply early. Limited access)\n\n\n
 SATURDAY, SEPTEMBER 11\nEA presents\nNeed for Speed Hot Pursuit On Tou
 r\nElectronic Arts is revving its engine and riding into San Francisco
  for the Need for Speed Hot Pursuit On Tour event, the latest-stop in 
 a five-month seven-city tour. The event brings the year's hottest raci
 ng game directly to fans and featuring a set by DJ legend Mixmaster Mi
 ke and a special performance by Del the Funky Homosapien, plus celebri
 ty guests and an assortment of the world's sexiest exotic cars.\n\nFea
 turing:\nMixmaster Mike (Beastie Boys)\n\nLive performance by:\nDel th
 e Funkee Homosapien\n\nOn the wheels of steel:\nDJ Sake One (PST/Local
  1200)\nDJ Teeko (4oneFunk)\nRen the Vinyl Archaeologist (True Skool)\
 nJustin Johnson\n\n@ Mighty, 119 Utah St., San Francisco\n9pm-2am / 21
 + w/ ID\nRSVP Required for Admission.\n(Reply early. Limited access):\
 nhttp://www.eventbrite.com/event/820050794/efblike\nArrive early to ge
 t in as RSVP does NOT guarantee entry!\nFirst come, first served.\n\n\
 nFor more information visit https://trueskool.com/events/need-for-spee
 d-hot-pursuit-on
DTSTART;TZID=America/Los_Angeles:20100911T210000
DTEND;TZID=America/Los_Angeles:20100912T020000
CATEGORIES:san, francisco, ca
LOCATION:Mighty, San Francisco, CA
WEBSITE:http://www.eventbrite.com/event/820050794/efblike
URL:http://www.eventbrite.com/event/820050794/efblike
CONTACT:
ORGANIZER:Electronic Arts
ATTACH;FMTTYPE="image/jpeg":http://storage.ning.com/topology/rest/1.0/
 file/get/2247853287?profile=original
ATTENDEE;ROLE=REQ-PARTICIPANT;PARTSTAT=ACCEPTED;RSVP=TRUE;CN=MissdINFO
 :https://trueskool.com/profile/MissdINfo
ATTENDEE;ROLE=REQ-PARTICIPANT;PARTSTAT=ACCEPTED;RSVP=TRUE;CN="Ren the 
 Vinyl Archaeologist":https://trueskool.com/profile/xh51jvilojur
ATTENDEE;ROLE=REQ-PARTICIPANT;PARTSTAT=TENTATIVE;RSVP=TRUE;CN=Celestia
 ldrmz:https://trueskool.com/profile/Celestialdrmz
END:VEVENT
END:VCALENDAR
