BEGIN:VCALENDAR
PRODID:NingEventWidget-v1
VERSION:2.0
METHOD:PUBLISH
BEGIN:VTIMEZONE
TZID:America/Los_Angeles
X-LIC-LOCATION:America/Los_Angeles
BEGIN:DAYLIGHT
TZOFFSETFROM:-0800
TZOFFSETTO:-0700
TZNAME:PDT
DTSTART:19700308T020000
RRULE:FREQ=YEARLY;BYMONTH=3;BYDAY=2SU
END:DAYLIGHT
BEGIN:STANDARD
TZOFFSETFROM:-0700
TZOFFSETTO:-0800
TZNAME:PST
DTSTART:19701101T020000
RRULE:FREQ=YEARLY;BYMONTH=11;BYDAY=1SU
END:STANDARD
END:VTIMEZONE
BEGIN:VEVENT
UID:1464587:Event:450531
DTSTAMP:20260421T004012Z
SUMMARY:Ne-Yo [CHI]
DESCRIPTION:\nNe-Yo\n\n\n\nHouse of Blues ChicagoChicago, IL\n\nSun, 
 11/02/1407:00 PM\n\n\n\n\n\nFor more information visit https://truesko
 ol.com/events/ne-yo-chi
DTSTART;TZID=America/Los_Angeles:20141102T190000
DTEND;TZID=America/Los_Angeles:20141102T230000
CATEGORIES:chicago
LOCATION:House of Blue Chicago
WEBSITE:http://www.ticketmaster.com/partner_redirect?v=t6l1PGoN4_D_Evz
 aBwWSpedqO7qs63BQv37CcBJJNoFRrua8XDHsmWX5MN6nX5aAgtl0IxU8JYvk0raC6YI9v
 BtSrgGRoGGPI04p4Ct9waB11n1fcT0kqgtyckV0nPS-DPIBMg&eventid=04004D1BE927
 445A&artistid=1051624&artistname=Ne-Yo&crosssite=TM_US:1051624:32905&t
 m_link=browse_msg-1_04004D1BE927445A
URL:http://www.ticketmaster.com/partner_redirect?v=t6l1PGoN4_D_EvzaBwW
 SpedqO7qs63BQv37CcBJJNoFRrua8XDHsmWX5MN6nX5aAgtl0IxU8JYvk0raC6YI9vBtSr
 gGRoGGPI04p4Ct9waB11n1fcT0kqgtyckV0nPS-DPIBMg&eventid=04004D1BE927445A
 &artistid=1051624&artistname=Ne-Yo&crosssite=TM_US:1051624:32905&tm_li
 nk=browse_msg-1_04004D1BE927445A
CONTACT:
ORGANIZER;CN="Editor's Pick":https://trueskool.com/profile/RentheVinyl
 Archaeologist
ATTACH;FMTTYPE="image/jpeg":http://storage.ning.com/topology/rest/1.0/
 file/get/2247966207?profile=original
ATTENDEE;ROLE=REQ-PARTICIPANT;PARTSTAT=ACCEPTED;RSVP=TRUE;CN="Editor's
  Pick":https://trueskool.com/profile/RentheVinylArchaeologist
END:VEVENT
END:VCALENDAR
