BEGIN:VCALENDAR
PRODID:NingEventWidget-v1
VERSION:2.0
METHOD:PUBLISH
BEGIN:VTIMEZONE
TZID:America/Los_Angeles
X-LIC-LOCATION:America/Los_Angeles
BEGIN:DAYLIGHT
TZOFFSETFROM:-0800
TZOFFSETTO:-0700
TZNAME:PDT
DTSTART:19700308T020000
RRULE:FREQ=YEARLY;BYMONTH=3;BYDAY=2SU
END:DAYLIGHT
BEGIN:STANDARD
TZOFFSETFROM:-0700
TZOFFSETTO:-0800
TZNAME:PST
DTSTART:19701101T020000
RRULE:FREQ=YEARLY;BYMONTH=11;BYDAY=1SU
END:STANDARD
END:VTIMEZONE
BEGIN:VEVENT
UID:1464587:Event:675403
DTSTAMP:20260421T065934Z
SUMMARY:NBA Finals Watch Party - Games 3 &amp; 4
DESCRIPTION:STRENGTH IN NUMBERS!\nOakhella and Oakland Central are tea
 ming up to host FREE NBA Finals watch parties for Game 3 and Game 4 on
  9th Street (between Broadway and Washington) in the heart of Old Oakl
 and. The festivities will include kids activities and games, live DJs,
  a halftime performance and much more!\nLimited seating will be provid
 ed, so be sure to bring your own chairs and a blanket if the weather i
 s a bit chilly!\n\nGame 3 is on Wednesday, June 6th\nGame 4 is on Frid
 ay, June 8th\nWatch Party starts at 6pm each day\n\nEvent page: https:
 //www.facebook.com/events/1821857088110869/\n\nFor more information vi
 sit https://trueskool.com/events/nba-finals-watch-party-games-3-amp-4
DTSTART;TZID=America/Los_Angeles:20180605T180000
DTEND;TZID=America/Los_Angeles:20180608T210000
CATEGORIES:oakland, old, bay, area
LOCATION:Old Oakland
WEBSITE:
URL:
CONTACT:
ORGANIZER:Oakhella
ATTACH;FMTTYPE="image/jpeg":http://storage.ning.com/topology/rest/1.0/
 file/get/2248007594?profile=original
ATTENDEE;ROLE=REQ-PARTICIPANT;PARTSTAT=ACCEPTED;RSVP=TRUE;CN="M.C. K~S
 wift":https://trueskool.com/profile/MCKSwift
END:VEVENT
END:VCALENDAR
