BEGIN:VCALENDAR
PRODID:NingEventWidget-v1
VERSION:2.0
METHOD:PUBLISH
BEGIN:VTIMEZONE
TZID:America/Los_Angeles
X-LIC-LOCATION:America/Los_Angeles
BEGIN:DAYLIGHT
TZOFFSETFROM:-0800
TZOFFSETTO:-0700
TZNAME:PDT
DTSTART:19700308T020000
RRULE:FREQ=YEARLY;BYMONTH=3;BYDAY=2SU
END:DAYLIGHT
BEGIN:STANDARD
TZOFFSETFROM:-0700
TZOFFSETTO:-0800
TZNAME:PST
DTSTART:19701101T020000
RRULE:FREQ=YEARLY;BYMONTH=11;BYDAY=1SU
END:STANDARD
END:VTIMEZONE
BEGIN:VEVENT
UID:1464587:Event:630762
DTSTAMP:20260422T093502Z
SUMMARY:Turn Up Thursdays - Free! @ Freddie J's Downtown San Jose
DESCRIPTION:Come through get your groove on and kick it for free every
  Thursday night!!\n\nTurn Down for What!! 2016\n\nDJ Johnny Afro will 
 be bumpin' Todays hits along with Classic Hip Hop & R&B that makes you
  move and groove. banging in the mix, and better yet...  21plus, dress
  code neat and clean,  Remixes and More.  All Friends, Fans, and Famil
 y of birthday's free of charge!!  2016\n\n\n\nFor more information vis
 it https://trueskool.com/events/nba-finals-game-1-after-party
DTSTART;TZID=America/Los_Angeles:20170504T210000
DTEND;TZID=America/Los_Angeles:20170505T020000
CATEGORIES:hip-hop, rap, thursday, club, nightclub, top, 40, dancing, 
 music, dj, throw, back, thursdays, tonight, today, johnny, afro, night
 , dance, "party[tags]"
LOCATION:Freddie J's San Jose, CA
WEBSITE:https://goo.gl/maps/ty3N4QB3ccr
URL:https://goo.gl/maps/ty3N4QB3ccr
CONTACT:650-329-9074
ORGANIZER;CN="Bass Way Records":https://trueskool.com/profile/BassWayR
 ecords
ATTACH;FMTTYPE="image/jpeg":http://storage.ning.com/topology/rest/1.0/
 file/get/2247993692?profile=original
ATTENDEE;ROLE=REQ-PARTICIPANT;PARTSTAT=ACCEPTED;RSVP=TRUE;CN="Bass Way
  Records":https://trueskool.com/profile/BassWayRecords
END:VEVENT
END:VCALENDAR
