BEGIN:VCALENDAR
PRODID:NingEventWidget-v1
VERSION:2.0
METHOD:PUBLISH
BEGIN:VTIMEZONE
TZID:America/Los_Angeles
X-LIC-LOCATION:America/Los_Angeles
BEGIN:DAYLIGHT
TZOFFSETFROM:-0800
TZOFFSETTO:-0700
TZNAME:PDT
DTSTART:19700308T020000
RRULE:FREQ=YEARLY;BYMONTH=3;BYDAY=2SU
END:DAYLIGHT
BEGIN:STANDARD
TZOFFSETFROM:-0700
TZOFFSETTO:-0800
TZNAME:PST
DTSTART:19701101T020000
RRULE:FREQ=YEARLY;BYMONTH=11;BYDAY=1SU
END:STANDARD
END:VTIMEZONE
BEGIN:VEVENT
UID:1464587:Event:258887
DTSTAMP:20260421T065143Z
SUMMARY:Naughty by Nature @ Yoshi's hosted by Chuy Gomez
DESCRIPTION:\nThe 'Ol Skool 2yr Anniversary House Party'\nFeaturing\nT
 he Grammy Award Winning Group\nNAUGHTY BY NATURE\nPerforming Their Hit
 s 'OPP' 'HIP HOP HOORAY' 'UPTOWN ANTHEM & Many More\nHosted by The Bay
  Area's Own\nMr. CHUY GOMEZ\nParty Music & Party Vibe Provided by\nSup
 erstar Pos Red & LL Supreme\n-----------------------------------------
 -------------------------------\nYoshi's SF\n( In the Lounge )\n1330 F
 illmore st\nSan Francisco\nFor Bottle Service 415-655-6500\n\nSATURDAY
  NOVEMBER 30th 2013\n10:30pm Doors\n21 & Over\nAdvance Tickets at: www
 .airbornetickets.com\nDress Code: No Hoodies, No T-Shirts and No Team 
 Hats\nSTANDING ROOM only PARTY and SHOW\nNO REFUNDS!!-----------------
 ---------------------------------------------------------\nwww.supabad
 entertainment.com\nTwitter,FaceBook & Instagram: supabadent\n\nFor mor
 e information visit https://trueskool.com/events/naughty-by-nature-yos
 hi-s-hosted-by-chuy-gomez
DTSTART;TZID=America/Los_Angeles:20131130T220000
DTEND;TZID=America/Los_Angeles:20131201T020000
CATEGORIES:"'hip", "hop'", "'old", "school'", "'opp'", "'san", "franci
 sco'", "'bay", "area'"
LOCATION:Yoshi's San Francisco
WEBSITE:http://airbornetickets.com
URL:http://airbornetickets.com
CONTACT:
ORGANIZER;CN="Supabad Entertainment":https://trueskool.com/profile/Sup
 abadEnt
ATTACH;FMTTYPE="image/jpeg":http://storage.ning.com/topology/rest/1.0/
 file/get/2247954468?profile=original
ATTENDEE;ROLE=REQ-PARTICIPANT;PARTSTAT=ACCEPTED;RSVP=TRUE;CN="Supabad 
 Entertainment":https://trueskool.com/profile/SupabadEnt
END:VEVENT
END:VCALENDAR
