BEGIN:VCALENDAR
PRODID:NingEventWidget-v1
VERSION:2.0
METHOD:PUBLISH
BEGIN:VTIMEZONE
TZID:America/Los_Angeles
X-LIC-LOCATION:America/Los_Angeles
BEGIN:DAYLIGHT
TZOFFSETFROM:-0800
TZOFFSETTO:-0700
TZNAME:PDT
DTSTART:19700308T020000
RRULE:FREQ=YEARLY;BYMONTH=3;BYDAY=2SU
END:DAYLIGHT
BEGIN:STANDARD
TZOFFSETFROM:-0700
TZOFFSETTO:-0800
TZNAME:PST
DTSTART:19701101T020000
RRULE:FREQ=YEARLY;BYMONTH=11;BYDAY=1SU
END:STANDARD
END:VTIMEZONE
BEGIN:VEVENT
UID:1464587:Event:30837
DTSTAMP:20260421T072235Z
SUMMARY:Native Representative
DESCRIPTION:Thaute Production (+) Sum of Forces present\n\nNative Repr
 esentative\n\nAll the way live: Melina Jones (Female Fun Records) & Wo
 nway Posibul (Think Beat Radio) backed by Bayonics.\n\nDisk Locks\nThe
  Whooligan (40Love/Sole Vibe)\nDion Decibels (Think Beat Radio)\n\nFre
 e b4 10:30pm\n$7 after\n$5 w/ student ID\n\nFor more information visit
  https://trueskool.com/events/native-representative
DTSTART;TZID=America/Los_Angeles:20090418T210000
DTEND;TZID=America/Los_Angeles:20090419T030000
CATEGORIES:hip, hop, house
LOCATION:Club Six Dark Room, San Francisco, CA
WEBSITE:http://www.clubsix1.com
URL:http://www.clubsix1.com
CONTACT:415-531-6593
ORGANIZER:Angel
ATTACH;FMTTYPE="image/jpeg":http://storage.ning.com/topology/rest/1.0/
 file/get/2247856385?profile=original
ATTENDEE;ROLE=REQ-PARTICIPANT;PARTSTAT=ACCEPTED;RSVP=TRUE;CN=Cecily:ht
 tps://trueskool.com/profile/Cecily
END:VEVENT
END:VCALENDAR
