BEGIN:VCALENDAR
PRODID:NingEventWidget-v1
VERSION:2.0
METHOD:PUBLISH
BEGIN:VTIMEZONE
TZID:America/Los_Angeles
X-LIC-LOCATION:America/Los_Angeles
BEGIN:DAYLIGHT
TZOFFSETFROM:-0800
TZOFFSETTO:-0700
TZNAME:PDT
DTSTART:19700308T020000
RRULE:FREQ=YEARLY;BYMONTH=3;BYDAY=2SU
END:DAYLIGHT
BEGIN:STANDARD
TZOFFSETFROM:-0700
TZOFFSETTO:-0800
TZNAME:PST
DTSTART:19701101T020000
RRULE:FREQ=YEARLY;BYMONTH=11;BYDAY=1SU
END:STANDARD
END:VTIMEZONE
BEGIN:VEVENT
UID:1464587:Event:41664
DTSTAMP:20260421T080208Z
SUMMARY:NATIVE ELEMENTS & HYPNOTIC VIBRATIONS - LIVE REGGAE ALL NIGHT!
  W/ DJ KURIOUS
DESCRIPTION:THIS FRIDAY NIGHT! WE BUN UP DI DOWN LOW IN BERKELEY w/ NA
 TIVE ELEMENTS & DJ KURIOUS!\n\nCOME EARLY!!\n\n$10.\n\nREGGAE ALL NIGH
 T!\n\nFor more information visit https://trueskool.com/events/native-e
 lements-hypnotic
DTSTART;TZID=America/Los_Angeles:20091016T210000
DTEND;TZID=America/Los_Angeles:20091017T020000
CATEGORIES:dancehall, reggae, live, music, bands, djs, native, element
 s, hypnotic, vibrations, dj, kurious, berkeley, shattuck, down, low, "
 $10", east, bay, friday, night, club, nightlife
LOCATION:Shattuck Down Low
WEBSITE:http://www.shattuckdownlow.com/
URL:http://www.shattuckdownlow.com/
CONTACT:
ORGANIZER;CN="Bleez - I":https://trueskool.com/profile/IrieBleez
ATTACH;FMTTYPE="image/jpeg":http://storage.ning.com/topology/rest/1.0/
 file/get/2247866525?profile=original
ATTENDEE;ROLE=REQ-PARTICIPANT;PARTSTAT=ACCEPTED;RSVP=TRUE;CN="Bleez - 
 I":https://trueskool.com/profile/IrieBleez
END:VEVENT
END:VCALENDAR
