BEGIN:VCALENDAR
PRODID:NingEventWidget-v1
VERSION:2.0
METHOD:PUBLISH
BEGIN:VTIMEZONE
TZID:America/Los_Angeles
X-LIC-LOCATION:America/Los_Angeles
BEGIN:DAYLIGHT
TZOFFSETFROM:-0800
TZOFFSETTO:-0700
TZNAME:PDT
DTSTART:19700308T020000
RRULE:FREQ=YEARLY;BYMONTH=3;BYDAY=2SU
END:DAYLIGHT
BEGIN:STANDARD
TZOFFSETFROM:-0700
TZOFFSETTO:-0800
TZNAME:PST
DTSTART:19701101T020000
RRULE:FREQ=YEARLY;BYMONTH=11;BYDAY=1SU
END:STANDARD
END:VTIMEZONE
BEGIN:VEVENT
UID:1464587:Event:29463
DTSTAMP:20260420T230443Z
SUMMARY:National Association of Record Industry Professionals present 
 The New Deal: 360 & Beyond in SF (Seminar)
DESCRIPTION:The New Deal: 360 & Beyond in SF*\n=======================
 ===================\n\nThu, Apr 16, 2009\nSan Francisco State Universi
 ty\n835 Market Street\nSan Franciso, CA\n7:00 p.m.\n\n360 deals are a 
 work-in-progress. Can labels and artists create and\nsustain long-term
  success in this new model? NARIP asks these questions\nand more, and 
 top-rated music business attorney DINA LaPOLT answers\nthem.\n\nYou wi
 ll learn Dina's Eight (8) MAJOR areas of negotiation for record deals:
 \n\n1. Artist advance / recording fund\n2. Controlled composition clau
 se\n3. Guaranteed release clause\n4. Pay or play clause\n5. No cross-c
 ollateralization / separate \"pot\" for mastertone,\nvoicetone and DVD
  monies\n6. Tour support / marketing and promotion commitment (videos,
  etc.)\n7. Artist royalty and royalties payable on foreign sales\n8. 3
 60 deals: try to limit other ancillary rights\n(i.e., merchandise, pub
 lishing, touring, sponsorships, etc.)\n\nGet more details and register
  now at www.narip.com.\n\nFor more information visit https://trueskool
 .com/events/national-association-of-record
DTSTART;TZID=America/Los_Angeles:20090416T190000
DTEND;TZID=America/Los_Angeles:20090416T220000
CATEGORIES:seminar, record, industry, deal
LOCATION:San Francisco State University, San Francisco
WEBSITE:http://www.narip.com
URL:http://www.narip.com
CONTACT:
ORGANIZER:NARIP
ATTACH;FMTTYPE="image/jpeg":http://storage.ning.com/topology/rest/1.0/
 file/get/2159747529?profile=original
ATTENDEE;ROLE=REQ-PARTICIPANT;PARTSTAT=ACCEPTED;RSVP=TRUE;CN="Ren the 
 Vinyl Archaeologist":https://trueskool.com/profile/xh51jvilojur
END:VEVENT
END:VCALENDAR
