BEGIN:VCALENDAR
PRODID:NingEventWidget-v1
VERSION:2.0
METHOD:PUBLISH
BEGIN:VTIMEZONE
TZID:America/Los_Angeles
X-LIC-LOCATION:America/Los_Angeles
BEGIN:DAYLIGHT
TZOFFSETFROM:-0800
TZOFFSETTO:-0700
TZNAME:PDT
DTSTART:19700308T020000
RRULE:FREQ=YEARLY;BYMONTH=3;BYDAY=2SU
END:DAYLIGHT
BEGIN:STANDARD
TZOFFSETFROM:-0700
TZOFFSETTO:-0800
TZNAME:PST
DTSTART:19701101T020000
RRULE:FREQ=YEARLY;BYMONTH=11;BYDAY=1SU
END:STANDARD
END:VTIMEZONE
BEGIN:VEVENT
UID:1464587:Event:32306
DTSTAMP:20260421T082831Z
SUMMARY:NARIP presents Maximizing Music Distribution: Physical, Digita
 l & Mobile
DESCRIPTION:Maximizing Music Distribution: Physical, Digital & Mobile 
 in SF*\n==============================================================
 ==========\n\nThu, Jun 4, 2009\nPyramind\n832 Folsom Street\nSan Franc
 isco, CA 94122\n7:00 p.m.\n\nWith the array of possibilities available
  to distribute music today, he who succeeds is the one who manages his
  options best.\n\nHow do you maximize distribution via the many avenue
 s available, and integrate physical, digital and mobile? Meet the expe
 rts who will share their knowledge and strategies on this vital and fa
 st-developing area.\n\nSPEAKERS:\n\nSteffen Franz, President & Founder
 , Independent Distribution Collective\nKurt Kunselman, Director of Dig
 ital Distribution / Business Development, Independent Distribution Col
 lective\n\nMore speakers TBA.\n\nFor more information visit https://tr
 ueskool.com/events/narip-presents-maximizing
DTSTART;TZID=America/Los_Angeles:20090604T190000
DTEND;TZID=America/Los_Angeles:20090604T220000
CATEGORIES:lecture, seminar
LOCATION:Pyramind, San Francisco, CA
WEBSITE:http://www.narip.com
URL:http://www.narip.com
CONTACT:
ORGANIZER:National Assoc. of Record Industry Professionals
ATTACH;FMTTYPE="image/jpeg":http://storage.ning.com/topology/rest/1.0/
 file/get/2247858640?profile=original
ATTENDEE;ROLE=REQ-PARTICIPANT;PARTSTAT=ACCEPTED;RSVP=TRUE;CN="Ren the 
 Vinyl Archaeologist":https://trueskool.com/profile/xh51jvilojur
END:VEVENT
END:VCALENDAR
