BEGIN:VCALENDAR
PRODID:NingEventWidget-v1
VERSION:2.0
METHOD:PUBLISH
BEGIN:VTIMEZONE
TZID:America/Los_Angeles
X-LIC-LOCATION:America/Los_Angeles
BEGIN:DAYLIGHT
TZOFFSETFROM:-0800
TZOFFSETTO:-0700
TZNAME:PDT
DTSTART:19700308T020000
RRULE:FREQ=YEARLY;BYMONTH=3;BYDAY=2SU
END:DAYLIGHT
BEGIN:STANDARD
TZOFFSETFROM:-0700
TZOFFSETTO:-0800
TZNAME:PST
DTSTART:19701101T020000
RRULE:FREQ=YEARLY;BYMONTH=11;BYDAY=1SU
END:STANDARD
END:VTIMEZONE
BEGIN:VEVENT
UID:1464587:Event:62076
DTSTAMP:20260420T230142Z
SUMMARY:Nappy Roots
DESCRIPTION:CLICK HERE TO WIN A PAIR OF TICKETS:\nhttp://www.trueskool
 .com/group/wintickets\n\n\nSATURDAY, NOVEMBER 13\nTastemaker Live & Ro
 ck-It Room present\nNappy Roots\n\nw/ special guests:\n40 Love\nThe Ch
 osen Few\nRen the Vinyl Archaeologist on the 1s & 2s\n\nRockit Room, 4
 06 Clement St., San Francisco\nDoors at 9pm, 21 w/ ID\nAdvance Tickets
 :\nhttp://www.nappyrootssf.eventbrite.com\n\n\n\nFor more information 
 visit https://trueskool.com/events/nappy-roots
DTSTART;TZID=America/Los_Angeles:20101113T210000
DTEND;TZID=America/Los_Angeles:20101114T020000
CATEGORIES:hip, hop
LOCATION:Rock It Room, San Francisco
WEBSITE:http://www.nappyrootssf.eventbrite.com
URL:http://www.nappyrootssf.eventbrite.com
CONTACT:
ORGANIZER:Tastemaker Live!
ATTACH;FMTTYPE="image/jpeg":http://storage.ning.com/topology/rest/1.0/
 file/get/2247881869?profile=original
ATTENDEE;ROLE=REQ-PARTICIPANT;PARTSTAT=ACCEPTED;RSVP=TRUE;CN=DirtyNuke
 s:https://trueskool.com/profile/DirtyNukes
ATTENDEE;ROLE=REQ-PARTICIPANT;PARTSTAT=ACCEPTED;RSVP=TRUE;CN="Ren the 
 Vinyl Archaeologist":https://trueskool.com/profile/xh51jvilojur
END:VEVENT
END:VCALENDAR
