BEGIN:VCALENDAR
PRODID:NingEventWidget-v1
VERSION:2.0
METHOD:PUBLISH
BEGIN:VTIMEZONE
TZID:America/Los_Angeles
X-LIC-LOCATION:America/Los_Angeles
BEGIN:DAYLIGHT
TZOFFSETFROM:-0800
TZOFFSETTO:-0700
TZNAME:PDT
DTSTART:19700308T020000
RRULE:FREQ=YEARLY;BYMONTH=3;BYDAY=2SU
END:DAYLIGHT
BEGIN:STANDARD
TZOFFSETFROM:-0700
TZOFFSETTO:-0800
TZNAME:PST
DTSTART:19701101T020000
RRULE:FREQ=YEARLY;BYMONTH=11;BYDAY=1SU
END:STANDARD
END:VTIMEZONE
BEGIN:VEVENT
UID:1464587:Event:841081
DTSTAMP:20260419T134003Z
SUMMARY:NAÏKA
DESCRIPTION:NAÏKA\r\nSATURDAY, MARCH 28, 2026 8:00 pm | Doors: 7:00 p
 m\r\nAUGUST HALL 420 Mason Street, San Francisco, CA\n\nFor more infor
 mation visit https://trueskool.com/events/naika
DTSTART;TZID=America/Los_Angeles:20260328T190000
DTEND;TZID=America/Los_Angeles:20260328T230000
CATEGORIES:"bay area", oakland, "san francisco", "san jose", berkeley
LOCATION:AUGUST HALL, SF
WEBSITE:https://www.ticketmaster.com/naika-eclesia-tour-san-francisco-
 california-03-28-2026/event/1C006372B664CA2C
URL:https://www.ticketmaster.com/naika-eclesia-tour-san-francisco-cali
 fornia-03-28-2026/event/1C006372B664CA2C
CONTACT:
ORGANIZER;CN="Editor's Pick":https://trueskool.com/profile/RentheVinyl
 Archaeologist
ATTACH;FMTTYPE="image/jpeg":https://storage.ning.com/topology/rest/1.0
 /file/get/31002198675?profile=original
ATTENDEE;ROLE=REQ-PARTICIPANT;PARTSTAT=ACCEPTED;RSVP=TRUE;CN="Editor's
  Pick":https://trueskool.com/profile/RentheVinylArchaeologist
END:VEVENT
END:VCALENDAR
