BEGIN:VCALENDAR
PRODID:NingEventWidget-v1
VERSION:2.0
METHOD:PUBLISH
BEGIN:VTIMEZONE
TZID:America/Los_Angeles
X-LIC-LOCATION:America/Los_Angeles
BEGIN:DAYLIGHT
TZOFFSETFROM:-0800
TZOFFSETTO:-0700
TZNAME:PDT
DTSTART:19700308T020000
RRULE:FREQ=YEARLY;BYMONTH=3;BYDAY=2SU
END:DAYLIGHT
BEGIN:STANDARD
TZOFFSETFROM:-0700
TZOFFSETTO:-0800
TZNAME:PST
DTSTART:19701101T020000
RRULE:FREQ=YEARLY;BYMONTH=11;BYDAY=1SU
END:STANDARD
END:VTIMEZONE
BEGIN:VEVENT
UID:1464587:Event:279466
DTSTAMP:20260421T033020Z
SUMMARY:Nahko and Trevor Hall
DESCRIPTION:Two Songwriters making Highway waves aaall over the world 
 right now, doing a double solo acoustic gig TONIGHT in SAN FRANCISCO a
 t THE INDEPENDENt oN DIVISIDERO & GROVE\n\n\nFor more information visi
 t https://trueskool.com/events/nahko-and-trevor-hall
DTSTART;TZID=America/Los_Angeles:20131201T200000
DTEND;TZID=America/Los_Angeles:20131202T120000
CATEGORIES:"the independent", "san francisco "
LOCATION:The Independent, San Francisco, CA
WEBSITE:http://theindependentsf.com
URL:http://theindependentsf.com
CONTACT:
ORGANIZER;CN="Cassandra Moonflower":https://trueskool.com/profile/Cass
 andraMoonflower
ATTACH;FMTTYPE="image/jpeg":http://storage.ning.com/topology/rest/1.0/
 file/get/2247953406?profile=original
ATTENDEE;ROLE=REQ-PARTICIPANT;PARTSTAT=ACCEPTED;RSVP=TRUE;CN="Cassandr
 a Moonflower":https://trueskool.com/profile/CassandraMoonflower
END:VEVENT
END:VCALENDAR
