BEGIN:VCALENDAR
PRODID:NingEventWidget-v1
VERSION:2.0
METHOD:PUBLISH
BEGIN:VTIMEZONE
TZID:America/Los_Angeles
X-LIC-LOCATION:America/Los_Angeles
BEGIN:DAYLIGHT
TZOFFSETFROM:-0800
TZOFFSETTO:-0700
TZNAME:PDT
DTSTART:19700308T020000
RRULE:FREQ=YEARLY;BYMONTH=3;BYDAY=2SU
END:DAYLIGHT
BEGIN:STANDARD
TZOFFSETFROM:-0700
TZOFFSETTO:-0800
TZNAME:PST
DTSTART:19701101T020000
RRULE:FREQ=YEARLY;BYMONTH=11;BYDAY=1SU
END:STANDARD
END:VTIMEZONE
BEGIN:VEVENT
UID:1464587:Event:650355
DTSTAMP:20260421T094719Z
SUMMARY:\"Nafasi\" Featuring Theory & Mpenzi
DESCRIPTION:Every 1st Friday we embark on this journey to embrace and 
 celebrate the universal language of music.::6.3.16::Special Guest ::T
 HEORY:: | FACTION SOUND | LARGE UPResident::MPENZI:: | MAJOR | Mondial
  AfriqueHappy Hour Session (6-9pm)::B-Style:: | Captain Player |Hosted
  By::CANDI:: SKIN WorldWide\n\n\n\n\nFor more information visit https:
 //trueskool.com/events/nafasi-featuring-theory-mpenzi
DTSTART;TZID=America/Los_Angeles:20160603T200000
DTEND;TZID=America/Los_Angeles:20160604T020000
CATEGORIES:oakland, uptown, east, bay, the, town, area, northern, cali
 fornia
LOCATION:Somar Bar, Oakland
WEBSITE:https://www.eventbrite.com/e/nafasi-a-spacial-construkt-w-gues
 t-dj-theory-tickets-25663124095
URL:https://www.eventbrite.com/e/nafasi-a-spacial-construkt-w-guest-dj
 -theory-tickets-25663124095
CONTACT:
ORGANIZER;CN="miss candi":https://trueskool.com/profile/misscandi
ATTACH;FMTTYPE="image/jpeg":http://storage.ning.com/topology/rest/1.0/
 file/get/2247987642?profile=original
ATTENDEE;ROLE=REQ-PARTICIPANT;PARTSTAT=ACCEPTED;RSVP=TRUE;CN="miss can
 di":https://trueskool.com/profile/misscandi
END:VEVENT
END:VCALENDAR
