BEGIN:VCALENDAR
PRODID:NingEventWidget-v1
VERSION:2.0
METHOD:PUBLISH
BEGIN:VTIMEZONE
TZID:America/Los_Angeles
X-LIC-LOCATION:America/Los_Angeles
BEGIN:DAYLIGHT
TZOFFSETFROM:-0800
TZOFFSETTO:-0700
TZNAME:PDT
DTSTART:19700308T020000
RRULE:FREQ=YEARLY;BYMONTH=3;BYDAY=2SU
END:DAYLIGHT
BEGIN:STANDARD
TZOFFSETFROM:-0700
TZOFFSETTO:-0800
TZNAME:PST
DTSTART:19701101T020000
RRULE:FREQ=YEARLY;BYMONTH=11;BYDAY=1SU
END:STANDARD
END:VTIMEZONE
BEGIN:VEVENT
UID:1464587:Event:631228
DTSTAMP:20260422T081120Z
SUMMARY:Mystikal
DESCRIPTION:Michael Lawrence Tyler, better known by his stage nameÂ My
 stikal, is an American rapper, and actor from New Orleans. A Persian G
 ulf war veteran who rose to stardom as a protÃ©gÃ© of the rap impresar
 io Master P, Tyler combined powerful, passionate vocals that would ran
 ge from a conspiratorial whisper to vein-popping screams in the course
  of a few words, and was constantly accelerating and decelerating his 
 delivery. The sound was new, but not unprecedented, as Tylerâ€™s vocal
 s were reminiscent of R&B screamers like Little Richard and James Brow
 n, using piano and saxophone sounds to accentuate the delivery.\n\nMys
 tikalâ€™s debut album, Mystikal, was released on New Orleans-based ind
 ependent record label Big Boy Records in 1994. Mystikal signed to Jive
  Records and released Mind of Mystikal in 1995. He signed to Master Pâ
 €™s No Limit Records in 1996 and released Unpredictable in 1997. He ap
 peared on many of the No Limit albums in 1997-1998. In 1998 he release
 d Ghetto Fabulous. That was his last album with the label, and he left
  in early 1999 to go on his own.\n\nFor more information visit https:/
 /trueskool.com/events/mystikal
DTSTART;TZID=America/Los_Angeles:20150619T210000
DTEND;TZID=America/Los_Angeles:20150620T020000
CATEGORIES:san, francisco, bay, area, mezzanine
LOCATION:San Francisco
WEBSITE:http://mezzaninesf.com/events/mystikal/
URL:http://mezzaninesf.com/events/mystikal/
CONTACT:415.625.8880
ORGANIZER:MEZZANINE & ANKH Present
ATTACH;FMTTYPE="image/jpeg":http://storage.ning.com/topology/rest/1.0/
 file/get/2247978312?profile=original
ATTENDEE;ROLE=REQ-PARTICIPANT;PARTSTAT=ACCEPTED;RSVP=TRUE;CN=Mezzanine
 SF:https://trueskool.com/profile/MezzanineSF
END:VEVENT
END:VCALENDAR
