BEGIN:VCALENDAR
PRODID:NingEventWidget-v1
VERSION:2.0
METHOD:PUBLISH
BEGIN:VTIMEZONE
TZID:America/Los_Angeles
X-LIC-LOCATION:America/Los_Angeles
BEGIN:DAYLIGHT
TZOFFSETFROM:-0800
TZOFFSETTO:-0700
TZNAME:PDT
DTSTART:19700308T020000
RRULE:FREQ=YEARLY;BYMONTH=3;BYDAY=2SU
END:DAYLIGHT
BEGIN:STANDARD
TZOFFSETFROM:-0700
TZOFFSETTO:-0800
TZNAME:PST
DTSTART:19701101T020000
RRULE:FREQ=YEARLY;BYMONTH=11;BYDAY=1SU
END:STANDARD
END:VTIMEZONE
BEGIN:VEVENT
UID:1464587:Event:810276
DTSTAMP:20260424T131901Z
SUMMARY:Mykal Rose (WIN TICKETS)
DESCRIPTION:ENTER TO WIN A PAIR OF TICKETS. WINNER WILL BE DRAWN RANDO
 MLY AND ANNOUNCED 2 DAYS PRIOR TO EVENT. \r\n\r\n\r\nThursday, August
  4\r\nMykal Rose\r\n@ Sweetwater Music Hall 19 Corte Madera Avenue, Mi
 ll Valley, CA 94941 \r\nDoors: 7 pm / Show: 8 pm / All Ages\r\n$32 Ad
 vance \r\n>> BUY TICKETS\r\n\r\n\r\n\r\n\r\n\r\nFor more than forty y
 ears, Mykal Rose has been recording and performing his brand of milita
 nt, hardcore Jamaican reggae to the delight of fans around the world. 
 One of roots reggae’s distinct voices, Rose helped define the Waterh
 ouse sound as the lead singer of Black Uhuru, whose original lineup in
 cluded Sly & Robbie. His lead vocals can be heard on hits such as “G
 uess Who’s Coming to Dinner,” “Shine Eye Gal,” ”Plastic Smil
 e,” ”What is Life,” and “General Penitentiary”. Rose also sa
 ng lead on the group’s 1985 album, Anthem, the first reggae album to
  win a Grammy. As a solo artist, Rose has continued to achieve success
  throughout the years. In 2007, he topped the Jamaican charts with “
 Shoot Out.” In 2019, he headlined the Jamrock Reggae Cruise, and com
 pleted a five-week tour that spanned the U.S., headlining five festiva
 ls. Rose made a flying start to 2022. “Glory to Jah”, a song he re
 corded for American independent label Big Feet Records, was number one
  on the Foundation Radio Network Chart in New York for over three week
 s.\n\nFor more information visit https://trueskool.com/events/mykal-ro
 se-win-tickets
DTSTART;TZID=America/Los_Angeles:20220804T190000
DTEND;TZID=America/Los_Angeles:20220804T230000
CATEGORIES:"bay area", "mill valley"
LOCATION:Sweetwater Music Hall, Mill Valley, CA
WEBSITE:https://sweetwatermusichall.com/event/mykal-rose-2/
URL:https://sweetwatermusichall.com/event/mykal-rose-2/
CONTACT:
ORGANIZER:Sweetwater Music Hall
ATTACH;FMTTYPE="image/jpeg":https://storage.ning.com/topology/rest/1.0
 /file/get/10660647660?profile=original
ATTENDEE;ROLE=REQ-PARTICIPANT;PARTSTAT=ACCEPTED;RSVP=TRUE;CN="Editor's
  Pick":https://trueskool.com/profile/RentheVinylArchaeologist
END:VEVENT
END:VCALENDAR
