BEGIN:VCALENDAR
PRODID:NingEventWidget-v1
VERSION:2.0
METHOD:PUBLISH
BEGIN:VTIMEZONE
TZID:America/Los_Angeles
X-LIC-LOCATION:America/Los_Angeles
BEGIN:DAYLIGHT
TZOFFSETFROM:-0800
TZOFFSETTO:-0700
TZNAME:PDT
DTSTART:19700308T020000
RRULE:FREQ=YEARLY;BYMONTH=3;BYDAY=2SU
END:DAYLIGHT
BEGIN:STANDARD
TZOFFSETFROM:-0700
TZOFFSETTO:-0800
TZNAME:PST
DTSTART:19701101T020000
RRULE:FREQ=YEARLY;BYMONTH=11;BYDAY=1SU
END:STANDARD
END:VTIMEZONE
BEGIN:VEVENT
UID:1464587:Event:62080
DTSTAMP:20260420T230620Z
SUMMARY:Myka 9, Medusa, Magic Heart Genies, BPos, Dubba L
DESCRIPTION:One League Ent. brings you the Cardiac Arrest U.S, Tour 20
 10!\n\nStarring:\n\nMyka 9 (Freestyle Fellowship)\nMedusa (Project Blo
 wed)\nMagic Heart Genies (Myka 9, JTHESARGE, Dj Drez)\nDubba L (Live D
 ub Step Beats)\n\nAND Special Guest:\n\nBPos (One League)\n\n$10 advan
 ce tickets available at: http://www.thizzlerontheroof.com/myka9/\n\nFo
 r more information visit https://trueskool.com/events/myka-9-medusa-ma
 gic-heart
DTSTART;TZID=America/Los_Angeles:20100805T210000
DTEND;TZID=America/Los_Angeles:20100806T020000
CATEGORIES:hip, hop, dub, step
LOCATION:Club 6, San Francisco
WEBSITE:http://clubsix1.com
URL:http://clubsix1.com
CONTACT:
ORGANIZER:One League Ent.
ATTACH;FMTTYPE="image/jpeg":http://storage.ning.com/topology/rest/1.0/
 file/get/2247882646?profile=original
ATTENDEE;ROLE=REQ-PARTICIPANT;PARTSTAT=ACCEPTED;RSVP=TRUE;CN=Goodword:
 https://trueskool.com/profile/Goodword
END:VEVENT
END:VCALENDAR
