BEGIN:VCALENDAR
PRODID:NingEventWidget-v1
VERSION:2.0
METHOD:PUBLISH
BEGIN:VTIMEZONE
TZID:America/Los_Angeles
X-LIC-LOCATION:America/Los_Angeles
BEGIN:DAYLIGHT
TZOFFSETFROM:-0800
TZOFFSETTO:-0700
TZNAME:PDT
DTSTART:19700308T020000
RRULE:FREQ=YEARLY;BYMONTH=3;BYDAY=2SU
END:DAYLIGHT
BEGIN:STANDARD
TZOFFSETFROM:-0700
TZOFFSETTO:-0800
TZNAME:PST
DTSTART:19701101T020000
RRULE:FREQ=YEARLY;BYMONTH=11;BYDAY=1SU
END:STANDARD
END:VTIMEZONE
BEGIN:VEVENT
UID:1464587:Event:30572
DTSTAMP:20260421T120409Z
SUMMARY:Myka 9, Abstract Rude, Aceyalone, Haiku d'Etat, Nocando
DESCRIPTION:Myka 9\nAbstract Rude\nAceyalone\nHaiku d'Etat :: Nocando\
 nDJ Drez\n\nThe Independent\nSan Francisco, CA\ndoors 8:30PM\nshow 9:0
 0PM\n\nFor more information visit https://trueskool.com/events/myka-9-
 abstract-rude-aceyalone
DTSTART;TZID=America/Los_Angeles:20090507T203000
DTEND;TZID=America/Los_Angeles:20090508T000000
CATEGORIES:hip, hop
LOCATION:Independent, San Francisco, CA
WEBSITE:http://apeconcerts.com/popArtist07.cfm?cID=1890
URL:http://apeconcerts.com/popArtist07.cfm?cID=1890
CONTACT:
ORGANIZER:Another Planet Ent.
ATTACH;FMTTYPE="image/jpeg":http://storage.ning.com/topology/rest/1.0/
 file/get/2247856624?profile=original
ATTENDEE;ROLE=REQ-PARTICIPANT;PARTSTAT=ACCEPTED;RSVP=TRUE;CN="Ren the 
 Vinyl Archaeologist":https://trueskool.com/profile/xh51jvilojur
END:VEVENT
END:VCALENDAR
