BEGIN:VCALENDAR
PRODID:NingEventWidget-v1
VERSION:2.0
METHOD:PUBLISH
BEGIN:VTIMEZONE
TZID:America/Los_Angeles
X-LIC-LOCATION:America/Los_Angeles
BEGIN:DAYLIGHT
TZOFFSETFROM:-0800
TZOFFSETTO:-0700
TZNAME:PDT
DTSTART:19700308T020000
RRULE:FREQ=YEARLY;BYMONTH=3;BYDAY=2SU
END:DAYLIGHT
BEGIN:STANDARD
TZOFFSETFROM:-0700
TZOFFSETTO:-0800
TZNAME:PST
DTSTART:19701101T020000
RRULE:FREQ=YEARLY;BYMONTH=11;BYDAY=1SU
END:STANDARD
END:VTIMEZONE
BEGIN:VEVENT
UID:1464587:Event:69629
DTSTAMP:20260421T033051Z
SUMMARY:MY PEOPLES (formerly KAPAKAHI) at Bottom of the Hill!
DESCRIPTION:Come out to our last show of the year!!\n\nWe're rockin' s
 ome new music and jammin' with our friends, the B Foundation!\n\nFor m
 ore information visit https://trueskool.com/events/my-peoples-formerly
 -kapakahi
DTSTART;TZID=America/Los_Angeles:20101202T220000
DTEND;TZID=America/Los_Angeles:20101203T000000
CATEGORIES:san, francisco, ca
LOCATION:Bottom of the Hill, SF, CA
WEBSITE:http://www.mypeoplesmusic.com
URL:http://www.mypeoplesmusic.com
CONTACT:
ORGANIZER;CN=KAPAKAHI:https://trueskool.com/profile/kapakahimusic
ATTACH;FMTTYPE="image/jpeg":
ATTENDEE;ROLE=REQ-PARTICIPANT;PARTSTAT=ACCEPTED;RSVP=TRUE;CN=KAPAKAHI:
 https://trueskool.com/profile/kapakahimusic
END:VEVENT
END:VCALENDAR
