BEGIN:VCALENDAR
PRODID:NingEventWidget-v1
VERSION:2.0
METHOD:PUBLISH
BEGIN:VTIMEZONE
TZID:America/Los_Angeles
X-LIC-LOCATION:America/Los_Angeles
BEGIN:DAYLIGHT
TZOFFSETFROM:-0800
TZOFFSETTO:-0700
TZNAME:PDT
DTSTART:19700308T020000
RRULE:FREQ=YEARLY;BYMONTH=3;BYDAY=2SU
END:DAYLIGHT
BEGIN:STANDARD
TZOFFSETFROM:-0700
TZOFFSETTO:-0800
TZNAME:PST
DTSTART:19701101T020000
RRULE:FREQ=YEARLY;BYMONTH=11;BYDAY=1SU
END:STANDARD
END:VTIMEZONE
BEGIN:VEVENT
UID:1464587:Event:26004
DTSTAMP:20260423T041614Z
SUMMARY:MUSIQ SOULCHILD, JAZMINE SULLIVAN, NE-YO
DESCRIPTION:AEG Live presents:\nlive in concert\n\nMUSIQ SOULCHILD\nJA
 ZMINE SULLIVAN .:. *NOMINATED FOR [5] 2009 GRAMMY AWARDS!*\nNE-YO\n\n\
 nEvent Information:\nFriday, February 06, 2009\n8:00 PM - 12:00 AM\nAl
 l Ages\ncover: $40.00 | Tickets: $40 - $85 | Doors @ 7:00pm | Tickets 
 via TickeMaster or Paramount Box Office\nmusic: Soul, Contemporary R&B
 , Hip Hop\n\nRSVP:\nhttp://www.ticketmaster.com/event/1C004197F27567D2
 ?artistid=1051624&majorcatid=10001&minorcatid=202\n\nVenue Information
 :\nParamount Theatre\n2025 Broadway\nOakland, CA 94612\nhttp://www.par
 amounttheatre.com/\n\nLinks:\nhttp://www.musiqsoulchild.com/\nhttp://w
 ww.jazminesullivanmusic.com/\nhttp://www.yearofthegentleman.com/\n\nFo
 r more information visit https://trueskool.com/events/musiq-soulchild-
 jazmine
DTSTART;TZID=America/Los_Angeles:20090206T200000
DTEND;TZID=America/Los_Angeles:20090207T000000
CATEGORIES:soul, "r&b"
LOCATION:Paramound Theatre, Oakland, CA
WEBSITE:http://www.ticketmaster.com/event/1C004197F27567D2?artistid=10
 51624&majorcatid=10001&minorcatid=202
URL:http://www.ticketmaster.com/event/1C004197F27567D2?artistid=105162
 4&majorcatid=10001&minorcatid=202
CONTACT:
ORGANIZER:AEG
ATTACH;FMTTYPE="image/jpeg":http://storage.ning.com/topology/rest/1.0/
 file/get/2247855634?profile=original
ATTENDEE;ROLE=REQ-PARTICIPANT;PARTSTAT=ACCEPTED;RSVP=TRUE;CN="Editor's
  Pick":https://trueskool.com/profile/RentheVinylArchaeologist
ATTENDEE;ROLE=REQ-PARTICIPANT;PARTSTAT=TENTATIVE;RSVP=TRUE;CN=weezee:h
 ttps://trueskool.com/profile/Denise
ATTENDEE;ROLE=REQ-PARTICIPANT;PARTSTAT=TENTATIVE;RSVP=TRUE;CN="Bella R
 ose":https://trueskool.com/profile/BellaRose
END:VEVENT
END:VCALENDAR
