BEGIN:VCALENDAR
PRODID:NingEventWidget-v1
VERSION:2.0
METHOD:PUBLISH
BEGIN:VTIMEZONE
TZID:America/Los_Angeles
X-LIC-LOCATION:America/Los_Angeles
BEGIN:DAYLIGHT
TZOFFSETFROM:-0800
TZOFFSETTO:-0700
TZNAME:PDT
DTSTART:19700308T020000
RRULE:FREQ=YEARLY;BYMONTH=3;BYDAY=2SU
END:DAYLIGHT
BEGIN:STANDARD
TZOFFSETFROM:-0700
TZOFFSETTO:-0800
TZNAME:PST
DTSTART:19701101T020000
RRULE:FREQ=YEARLY;BYMONTH=11;BYDAY=1SU
END:STANDARD
END:VTIMEZONE
BEGIN:VEVENT
UID:1464587:Event:679804
DTSTAMP:20260421T123018Z
SUMMARY:MUSIQ SOULCHILD
DESCRIPTION:2x platinum R&B/soul vocalist: MUSIQ SOULCHILD\r\nMon, Nov
 ember 12, 2018 Doors: 7:30 PM / Show: 8:00 PM\r\nMon, November 12, 201
 8 Doors: 9:45 PM / Show: 10:00 PM\r\nYoshi's Oakland 510 Embarcadero W
 est  Oakland, CA\r\n$65.00 - $99.00\n\nFor more information visit http
 s://trueskool.com/events/musiq-soulchild-5
DTSTART;TZID=America/Los_Angeles:20181112T200000
DTEND;TZID=America/Los_Angeles:20181112T234500
CATEGORIES:"bay area", oakland, "san francisco", "san jose", berkeley
LOCATION:Yoshi's, Oakland
WEBSITE:https://www.ticketfly.com/purchase/event/1597108?_ga=2.5592362
 7.1050601982.1541099759-1928809326.1539459453&amp;__utma=1.595339009.1
 539459453.1541099759.1541104311.3&amp;__utmb=1.6.10.1541104311&amp;__u
 tmc=1&amp;__utmx=-&amp;__utmz=1.1541099759.2.2.utmcsr=google|utmccn=(o
 rganic)|utmcmd=organic|utmctr=(not%20provided)&amp;__utmv=-&amp;__utmk
 =10648116
URL:https://www.ticketfly.com/purchase/event/1597108?_ga=2.55923627.10
 50601982.1541099759-1928809326.1539459453&amp;__utma=1.595339009.15394
 59453.1541099759.1541104311.3&amp;__utmb=1.6.10.1541104311&amp;__utmc=
 1&amp;__utmx=-&amp;__utmz=1.1541099759.2.2.utmcsr=google|utmccn=(organ
 ic)|utmcmd=organic|utmctr=(not%20provided)&amp;__utmv=-&amp;__utmk=106
 48116
CONTACT:
ORGANIZER;CN="Editor's Pick":https://trueskool.com/profile/RentheVinyl
 Archaeologist
ATTACH;FMTTYPE="image/jpeg":http://storage.ning.com/topology/rest/1.0/
 file/get/2248011593?profile=original
ATTENDEE;ROLE=REQ-PARTICIPANT;PARTSTAT=ACCEPTED;RSVP=TRUE;CN="Editor's
  Pick":https://trueskool.com/profile/RentheVinylArchaeologist
END:VEVENT
END:VCALENDAR
