BEGIN:VCALENDAR
PRODID:NingEventWidget-v1
VERSION:2.0
METHOD:PUBLISH
BEGIN:VTIMEZONE
TZID:America/Los_Angeles
X-LIC-LOCATION:America/Los_Angeles
BEGIN:DAYLIGHT
TZOFFSETFROM:-0800
TZOFFSETTO:-0700
TZNAME:PDT
DTSTART:19700308T020000
RRULE:FREQ=YEARLY;BYMONTH=3;BYDAY=2SU
END:DAYLIGHT
BEGIN:STANDARD
TZOFFSETFROM:-0700
TZOFFSETTO:-0800
TZNAME:PST
DTSTART:19701101T020000
RRULE:FREQ=YEARLY;BYMONTH=11;BYDAY=1SU
END:STANDARD
END:VTIMEZONE
BEGIN:VEVENT
UID:1464587:Event:203367
DTSTAMP:20260421T020950Z
SUMMARY:MUSIC VIDEO NIGHT aka )))TheVideoMixtape((( @ MADRONE with DJ4
 AM (TheVampireOnAPonyLabel)
DESCRIPTION:Every 2nd Saturday DJ4AM (TheVampireOnAPonyLabel) plays a 
 headspinning mix of music videos from too many genres. 80'S 90'S HIP-H
 OP R&B ROCK POP REGGAE ELECTRONIC DISCO FUNK...\nMadrone Art Bar (Best
  Of The Bay winner 2012) is located at 500 Divisadero @ Fell.\n21+ $5 
 cover\nJason Patrick Chavez (DJ4AM) cut his teeth doing radio, poetry 
 jams and DJing dive bars in Fresno, California during the 90's before 
 moving to the Bay Area in 2001. Since then he has performed in Europe 
 as well as across the USA. 4AM was also a member of Octavius, Black Fi
 ction and produced \"The Little Happy\" for bay legend MC Dopestyle. H
 e is now one half of production duo Opal Heights.DJ4AM: \"I used to pl
 ay records for my mom and my uncle while they got lifted in the kitche
 n, I was in the living room with all the wax, they had speakers going 
 down the hall. I guess you can say I got my break in the Bay... 1760 H
 aight st, started rockin house parties in '81.\"\m/(>.<)\m/ d(>_<)b♎
 \n\nFor more information visit https://trueskool.com/events/music-vide
 o-night-aka-thevideomixtape-madrone-with-dj4am
DTSTART;TZID=America/Los_Angeles:20130511T210000
DTEND;TZID=America/Los_Angeles:20130512T020000
CATEGORIES:san, francisco, ca
LOCATION:Madrone Art Bar, San Francisco
WEBSITE:https://www.facebook.com/events/593603550649803/
URL:https://www.facebook.com/events/593603550649803/
CONTACT:
ORGANIZER;CN=DJ4AM:https://trueskool.com/profile/DJ4AM
ATTACH;FMTTYPE="image/jpeg":http://storage.ning.com/topology/rest/1.0/
 file/get/2247940667?profile=original
ATTENDEE;ROLE=REQ-PARTICIPANT;PARTSTAT=ACCEPTED;RSVP=TRUE;CN=DJ4AM:htt
 ps://trueskool.com/profile/DJ4AM
END:VEVENT
END:VCALENDAR
