BEGIN:VCALENDAR
PRODID:NingEventWidget-v1
VERSION:2.0
METHOD:PUBLISH
BEGIN:VTIMEZONE
TZID:America/Los_Angeles
X-LIC-LOCATION:America/Los_Angeles
BEGIN:DAYLIGHT
TZOFFSETFROM:-0800
TZOFFSETTO:-0700
TZNAME:PDT
DTSTART:19700308T020000
RRULE:FREQ=YEARLY;BYMONTH=3;BYDAY=2SU
END:DAYLIGHT
BEGIN:STANDARD
TZOFFSETFROM:-0700
TZOFFSETTO:-0800
TZNAME:PST
DTSTART:19701101T020000
RRULE:FREQ=YEARLY;BYMONTH=11;BYDAY=1SU
END:STANDARD
END:VTIMEZONE
BEGIN:VEVENT
UID:1464587:Event:661472
DTSTAMP:20260422T100602Z
SUMMARY:Music of the Spheres featuring Kev Choice, Zion I Crew, JEL of
  ANTICON, Foxtails Brigade, Pure Powers
DESCRIPTION:\n\nFRIDAY, APR 28\nMusic of the Spheres is an ancient con
 cept regarding movements of celestial bodies - sun, moon, planets and 
 stars to form something big and create a beautiful symphony throughout
  the galaxy. Stellium will showcase its own interpretation on how thes
 e beautiful movements bring together various forces of good - talented
  artists, amazing advocates, and a sumptuous feast to make a lasting d
 ifference in the fight against child trafficking.\n\nThe Grace Cathedr
 al courtyard will become a dinner hall where guests will enjoy a full 
 course, decadent meal complete with wine. Following the dinner, guests
  will head into the cathedral which will be magically lit to feel like
  you are in celestial space. This incredible performance will pair a y
 outh ensemble of strings, horns, choir, and percussion with some of th
 e most exciting bay area bands and artists. As the performance begins 
 and beautiful music fills the air, the audience will be left in awe of
  the experience.\n\nLineup:\nKev Choice\nZion I Crew\nJELofANTICON\nFo
 xtails Brigade\nPure Powers\nJamie Way\nKhafre Jay\nZFG Promotions\nRG
 Bmono\n\nGrace Cathedral, San Francisco\n1100 California St, San Franc
 isco, California 94108\n>> BUY TICKETS\n\nFor more information visit h
 ttps://trueskool.com/events/music-of-the-spheres-featuring-kev-choice-
 zion-i-crew-jel-of-anti
DTSTART;TZID=America/Los_Angeles:20170428T180000
DTEND;TZID=America/Los_Angeles:20170429T190000
CATEGORIES:"bay area", "san francisco"
LOCATION:Grace Cathedral, San Francisco
WEBSITE:https://stelliummusic.com/music-of-the-spheres
URL:https://stelliummusic.com/music-of-the-spheres
CONTACT:
ORGANIZER:Stellium Music
ATTACH;FMTTYPE="image/jpeg":http://storage.ning.com/topology/rest/1.0/
 file/get/2247995959?profile=original
ATTENDEE;ROLE=REQ-PARTICIPANT;PARTSTAT=ACCEPTED;RSVP=TRUE;CN="Ren the 
 Vinyl Archaeologist":https://trueskool.com/profile/xh51jvilojur
END:VEVENT
END:VCALENDAR
