BEGIN:VCALENDAR
PRODID:NingEventWidget-v1
VERSION:2.0
METHOD:PUBLISH
BEGIN:VTIMEZONE
TZID:America/Los_Angeles
X-LIC-LOCATION:America/Los_Angeles
BEGIN:DAYLIGHT
TZOFFSETFROM:-0800
TZOFFSETTO:-0700
TZNAME:PDT
DTSTART:19700308T020000
RRULE:FREQ=YEARLY;BYMONTH=3;BYDAY=2SU
END:DAYLIGHT
BEGIN:STANDARD
TZOFFSETFROM:-0700
TZOFFSETTO:-0800
TZNAME:PST
DTSTART:19701101T020000
RRULE:FREQ=YEARLY;BYMONTH=11;BYDAY=1SU
END:STANDARD
END:VTIMEZONE
BEGIN:VEVENT
UID:1464587:Event:41738
DTSTAMP:20260421T093653Z
SUMMARY:MUSIC LIKE DIRT! Vintage Reggae & Rocksteady Happy Hour
DESCRIPTION:S.F's original vintage Reggae Happy Hour Party! Featuring 
 rare and classic Reggae, Rocksteady, Ska, Roots, UK Lovers & Rub-A-Dub
  vinyl selections.\nWith Selectors Dukey & Tip Top Sounds alongside Br
 yan Martin\n7:30-10:30\nSkylark Bar\n16th & Valencia\nSan Francisco\n\
 nFor more information visit https://trueskool.com/events/music-like-di
 rt-vintage-reggae-4
DTSTART;TZID=America/Los_Angeles:20091016T190000
DTEND;TZID=America/Los_Angeles:20091016T223000
CATEGORIES:reggae, dub, lovers, roots, ska, vinyl, rocksteady, "45's",
  oldskool, dancehall
LOCATION:Skylark Bar, San Francisco
WEBSITE:http://www.skylarkbar.com/
URL:http://www.skylarkbar.com/
CONTACT:
ORGANIZER;CN="SF Vintage Reggae Society":https://trueskool.com/profile
 /SFVintageReggaeSociety
ATTACH;FMTTYPE="image/jpeg":http://storage.ning.com/topology/rest/1.0/
 file/get/2106897871?profile=original
ATTENDEE;ROLE=REQ-PARTICIPANT;PARTSTAT=ACCEPTED;RSVP=TRUE;CN="SF Vinta
 ge Reggae Society":https://trueskool.com/profile/SFVintageReggaeSociet
 y
END:VEVENT
END:VCALENDAR
