BEGIN:VCALENDAR
PRODID:NingEventWidget-v1
VERSION:2.0
METHOD:PUBLISH
BEGIN:VTIMEZONE
TZID:America/Los_Angeles
X-LIC-LOCATION:America/Los_Angeles
BEGIN:DAYLIGHT
TZOFFSETFROM:-0800
TZOFFSETTO:-0700
TZNAME:PDT
DTSTART:19700308T020000
RRULE:FREQ=YEARLY;BYMONTH=3;BYDAY=2SU
END:DAYLIGHT
BEGIN:STANDARD
TZOFFSETFROM:-0700
TZOFFSETTO:-0800
TZNAME:PST
DTSTART:19701101T020000
RRULE:FREQ=YEARLY;BYMONTH=11;BYDAY=1SU
END:STANDARD
END:VTIMEZONE
BEGIN:VEVENT
UID:1464587:Event:37203
DTSTAMP:20260420T182112Z
SUMMARY:Music Like Dirt! Vintage Reggae Happy Hour Party
DESCRIPTION:MUSIC LIKE DIRT! Reggae Oldies Happy Hour PartyThe Music: 
 Reggae, Rocksteady, Roots, Ska, UK Lovers Rock The Artists: Marcia Gri
 ffiths, Ken Boothe, King Stitt, The Pioneers, Sound Dimension, The Wai
 lers, U-Roy, Andy Capp, and many more!\n\nThe Labels: Studio One, PAMA
 , Treasure Isle, Trojan, Money Disc, Top Deck, Prince Buster, Gas, Hig
 h Note, Downtown, Rockers, Phase 1, and loads more!\n\nThe Selectors: 
 Dukey & Tip Top Sounds alongside Bryan Martin plus special guests pass
 ing thru with nuff 45's!\nSponsored by The San Francisco Vintage Regga
 e Society\n\n\n\nFor more information visit https://trueskool.com/even
 ts/music-like-dirt-vintage-reggae-3
DTSTART;TZID=America/Los_Angeles:20090807T193000
DTEND;TZID=America/Los_Angeles:20090807T223000
CATEGORIES:reggae, dub, lovers, roots, ska, vinyl, rocksteady, "45's",
  oldskool, dancehall
LOCATION:Skylark Bar, San Francisco
WEBSITE:http://www.skylarkbar.com/
URL:http://www.skylarkbar.com/
CONTACT:
ORGANIZER;CN="SF Vintage Reggae Society":https://trueskool.com/profile
 /SFVintageReggaeSociety
ATTACH;FMTTYPE="image/jpeg":http://storage.ning.com/topology/rest/1.0/
 file/get/2106895549?profile=original
ATTENDEE;ROLE=REQ-PARTICIPANT;PARTSTAT=ACCEPTED;RSVP=TRUE;CN="SF Vinta
 ge Reggae Society":https://trueskool.com/profile/SFVintageReggaeSociet
 y
END:VEVENT
END:VCALENDAR
