BEGIN:VCALENDAR
PRODID:NingEventWidget-v1
VERSION:2.0
METHOD:PUBLISH
BEGIN:VTIMEZONE
TZID:America/Los_Angeles
X-LIC-LOCATION:America/Los_Angeles
BEGIN:DAYLIGHT
TZOFFSETFROM:-0800
TZOFFSETTO:-0700
TZNAME:PDT
DTSTART:19700308T020000
RRULE:FREQ=YEARLY;BYMONTH=3;BYDAY=2SU
END:DAYLIGHT
BEGIN:STANDARD
TZOFFSETFROM:-0700
TZOFFSETTO:-0800
TZNAME:PST
DTSTART:19701101T020000
RRULE:FREQ=YEARLY;BYMONTH=11;BYDAY=1SU
END:STANDARD
END:VTIMEZONE
BEGIN:VEVENT
UID:1464587:Event:51117
DTSTAMP:20260420T163243Z
SUMMARY:Music Law Part Two (Intermediate)
DESCRIPTION:About This Workshop:\nThis two-part workshop will present 
 an overview of the fundamental business law and intellectual property 
 law matters concerning musicians with respect to sound recordings in t
 he analog and digital environment. Part Two (Intermediate) is a contin
 uation of Part One (Basic) and will include, by way of example, busine
 ss arrangements among band members, relationships with managers, and r
 ecord label deal terms. With Keith Cooper. Registration for both works
 hops is recommended but not required.\n\nTo Register:\nPlease call our
  San Francisco office at (415) 775-7200 ext. 107 or email ncalegal@cal
 awyersforthearts.org.\n\nWorkshop Fees:\nGeneral Admission, $20; C.L.A
 . Members, $10; Senior Citizen & Student C.L.A. Members, $5.\n\nTo Joi
 n C.L.A. as a Member:\nhttp://calawyersforthearts.org/membership.html\
 n\n*****\n\nAbout C.L.A.:\nCalifornia Lawyers for the Arts is a nonpro
 fit service organization providing legal services, educational program
 s, alternative dispute resolution services, advocacy and more to artis
 ts and arts organizations of all types. Founded in 1974 by lawyers and
  artists, C.L.A.'s programs and services are designed to help artists 
 understand and apply legal concepts. For more information about C.L.A.
 , please visit http://www.calawyersforthearts.org.\n\nPLEASE NOTE:\nIf
  you are interested in our legal referral services, please do not post
  your question on any public website. Instead, contact our Northern Ca
 lifornia LRS staff at (415) 775-7200 x107 or Southern California LRS s
 taff at (310) 998-5590.\n\nFor more information visit https://trueskoo
 l.com/events/music-law-part-two
DTSTART;TZID=America/Los_Angeles:20100422T180000
DTEND;TZID=America/Los_Angeles:20100422T194500
CATEGORIES:business, community, education, legal, music, nonprofit, se
 minar, workshop
LOCATION:San Jose State University, San Jose, CA
WEBSITE:http://www.facebook.com/event.php?eid=377694886477
URL:http://www.facebook.com/event.php?eid=377694886477
CONTACT:(415) 775-7200 x107
ORGANIZER:California Lawyers for the Arts - SF Bay Area
ATTACH;FMTTYPE="image/jpeg":http://storage.ning.com/topology/rest/1.0/
 file/get/2247875090?profile=original
ATTENDEE;ROLE=REQ-PARTICIPANT;PARTSTAT=ACCEPTED;RSVP=TRUE;CN="Helen R.
  Wu":https://trueskool.com/profile/HelenRWu
END:VEVENT
END:VCALENDAR
