BEGIN:VCALENDAR
PRODID:NingEventWidget-v1
VERSION:2.0
METHOD:PUBLISH
BEGIN:VTIMEZONE
TZID:America/Los_Angeles
X-LIC-LOCATION:America/Los_Angeles
BEGIN:DAYLIGHT
TZOFFSETFROM:-0800
TZOFFSETTO:-0700
TZNAME:PDT
DTSTART:19700308T020000
RRULE:FREQ=YEARLY;BYMONTH=3;BYDAY=2SU
END:DAYLIGHT
BEGIN:STANDARD
TZOFFSETFROM:-0700
TZOFFSETTO:-0800
TZNAME:PST
DTSTART:19701101T020000
RRULE:FREQ=YEARLY;BYMONTH=11;BYDAY=1SU
END:STANDARD
END:VTIMEZONE
BEGIN:VEVENT
UID:1464587:Event:235215
DTSTAMP:20260421T024406Z
SUMMARY:Mushroom Jazz w/ Mark Farina | Day Party @ The Phoenix Hotel -
  Sun (8/25)
DESCRIPTION: \n\nSUNDAY AUG 25The Summer Sunday Seriesat The Phoenix 
 Hotel presents\nMUSHROOM JAZZ w/ Mark Farina\n\nopening set by Jayvi V
 elasco\nPhoenix Hotel - a Joie de Vivre Hotel601 Eddy Street, San Fran
 cisco, California 94109View Map · Get Directions\nFREE BEFORE 2PM or 
 PURCHASE ADVANCE TICKETS AThttp://summersundayseries.eventbrite.com/\n
 21+\n∆ MARK FARINA ∆Shortly after Mark befriended Derrick Carter i
 n 1988 at a record store in Chicago, his passion for House music, and 
 sharing it with the world, exploded. Mark experimented with a deeper s
 tyle, dropping De La Soul, disco classics and other stuff that wasn’
 t being played in the main rooms of nightclubs. While exploring his lo
 ve for the purist forms of House Music, Mark developed his trademark s
 tyle: Mushroom Jazz; acid jazz infused with the West Coast’s jazzy, 
 organic productions along with urban beats. Fans embraced Mark’s dow
 ntempo style so much that he started a weekly Mushroom Jazz club night
  in San Francisco with Patty Ryan. In 3 short years, the club establis
 hed a fanatical, cult-like following for Farina and the Mushroom Jazz 
 sound. When the doors closed, Farina continued the tradition by releas
 ing a series of Cds, “Mushroom Jazz”. Since then, Mark has been tr
 aveling the globe performing 100s of shows, to over one million club g
 oers, a year. His House sets take fans on journeys to the jazzy side o
 f Chicago House mixed San Fran style. Some of these sets have been kno
 wn to last up to 8 hours. And sometimes you’ll find Mark playing in 
 two different rooms at the same party, showcasing his range of rocking
  the big room sound to the uber-chill. Farina’s taste making skills 
 continue to turn the heads of crowds worldwide and consistently draw n
 ew fans to his style of chunky–funky rhythms and deep underground ho
 use. URB, MUZIK and BPM Magazines have all had him on their Top DJ’s
  In The World lists.\n\nFor more information visit https://trueskool.c
 om/events/mushroom-jazz-w-mark-farina-day-party-the-phoenix-hotel-sun-
 8-25
DTSTART;TZID=America/Los_Angeles:20130825T130000
DTEND;TZID=America/Los_Angeles:20130825T190000
CATEGORIES:"bay area", "san francisco"
LOCATION:Phoenix Hotel, San Francisco
WEBSITE:https://www.facebook.com/events/366592746776817/
URL:https://www.facebook.com/events/366592746776817/
CONTACT:
ORGANIZER:Summer Sunday Series
ATTACH;FMTTYPE="image/jpeg":http://storage.ning.com/topology/rest/1.0/
 file/get/2057414814?profile=original
ATTENDEE;ROLE=REQ-PARTICIPANT;PARTSTAT=ACCEPTED;RSVP=TRUE;CN="Editor's
  Pick":https://trueskool.com/profile/RentheVinylArchaeologist
END:VEVENT
END:VCALENDAR
